BEGIN:VCALENDAR
VERSION:2.0
PRODID:-//St. Luke&#039;s Episcopal Church - ECPv6.15.20//NONSGML v1.0//EN
CALSCALE:GREGORIAN
METHOD:PUBLISH
X-WR-CALNAME:St. Luke&#039;s Episcopal Church
X-ORIGINAL-URL:https://stlukesrenton.org
X-WR-CALDESC:Events for St. Luke&#039;s Episcopal Church
REFRESH-INTERVAL;VALUE=DURATION:PT1H
X-Robots-Tag:noindex
X-PUBLISHED-TTL:PT1H
BEGIN:VTIMEZONE
TZID:America/Los_Angeles
BEGIN:DAYLIGHT
TZOFFSETFROM:-0800
TZOFFSETTO:-0700
TZNAME:PDT
DTSTART:20200308T100000
END:DAYLIGHT
BEGIN:STANDARD
TZOFFSETFROM:-0700
TZOFFSETTO:-0800
TZNAME:PST
DTSTART:20201101T090000
END:STANDARD
BEGIN:DAYLIGHT
TZOFFSETFROM:-0800
TZOFFSETTO:-0700
TZNAME:PDT
DTSTART:20210314T100000
END:DAYLIGHT
BEGIN:STANDARD
TZOFFSETFROM:-0700
TZOFFSETTO:-0800
TZNAME:PST
DTSTART:20211107T090000
END:STANDARD
BEGIN:DAYLIGHT
TZOFFSETFROM:-0800
TZOFFSETTO:-0700
TZNAME:PDT
DTSTART:20220313T100000
END:DAYLIGHT
BEGIN:STANDARD
TZOFFSETFROM:-0700
TZOFFSETTO:-0800
TZNAME:PST
DTSTART:20221106T090000
END:STANDARD
END:VTIMEZONE
BEGIN:VEVENT
DTSTART;TZID=America/Los_Angeles:20211121T103000
DTEND;TZID=America/Los_Angeles:20211121T120000
DTSTAMP:20260425T050938
CREATED:20180423T152435Z
LAST-MODIFIED:20180423T152435Z
UID:10533-1637490600-1637496000@stlukesrenton.org
SUMMARY:Holy Eucharist
DESCRIPTION:We celebrate our lives in Christ\, proclaiming an authentic faith for real people. We proclaim God’s love for all through ritual\, song\, prayer\, scripture\, silence\, beauty\, and communion.
URL:https://stlukesrenton.org/event/holy-eucharist-2-2021-11-21/
LOCATION:St. Luke’s\, Main Church\, 99 Wells Ave S\, Renton\, WA\, 98057\, United States
CATEGORIES:Liturgy
ATTACH;FMTTYPE=image/jpeg:https://stlukesrenton.org/wp-content/uploads/2018/04/img_4692-1.jpg
ORGANIZER;CN="St. Luke's Episcopal Church":MAILTO:info@stlukesrenton.org
END:VEVENT
BEGIN:VEVENT
DTSTART;TZID=America/Los_Angeles:20211121T080000
DTEND;TZID=America/Los_Angeles:20211121T090000
DTSTAMP:20260425T050938
CREATED:20180423T152208Z
LAST-MODIFIED:20201229T192309Z
UID:10532-1637481600-1637485200@stlukesrenton.org
SUMMARY:Holy Eucharist
DESCRIPTION:We celebrate our lives in Christ\, proclaiming an authentic faith for real people. We proclaim God’s love for all through ritual\, song\, prayer\, scripture\, silence\, beauty\, and communion.
URL:https://stlukesrenton.org/event/holy-eucharist-2021-11-21/
LOCATION:St. Luke’s\, 99 Wells Ave S\, Renton\, 98057\, United States
CATEGORIES:Liturgy
ATTACH;FMTTYPE=image/jpeg:https://stlukesrenton.org/wp-content/uploads/2018/04/img_4700.jpg
ORGANIZER;CN="St. Luke's Episcopal Church":MAILTO:info@stlukesrenton.org
END:VEVENT
BEGIN:VEVENT
DTSTART;TZID=America/Los_Angeles:20211117T180000
DTEND;TZID=America/Los_Angeles:20211117T183000
DTSTAMP:20260425T050938
CREATED:20180423T151758Z
LAST-MODIFIED:20210311T143239Z
UID:10511-1637172000-1637173800@stlukesrenton.org
SUMMARY:Vesper Mass
DESCRIPTION:This intimate\, meditative liturgy begins with the Episcopal evening office (Evening Prayer) and continues with communion. We gather in the sanctuary (altar area) of the church for this half-hour liturgy. \nA half-hour of silent meditation begins before vesper mass at 5:30 pm.
URL:https://stlukesrenton.org/event/vesper-mass-2021-11-17/
LOCATION:St. Luke’s\, Main Church\, 99 Wells Ave S\, Renton\, WA\, 98057\, United States
CATEGORIES:Liturgy
ATTACH;FMTTYPE=image/jpeg:https://stlukesrenton.org/wp-content/uploads/2018/04/img_4692.jpg
ORGANIZER;CN="St. Luke's Episcopal Church":MAILTO:info@stlukesrenton.org
END:VEVENT
BEGIN:VEVENT
DTSTART;TZID=America/Los_Angeles:20211117T173000
DTEND;TZID=America/Los_Angeles:20211117T180000
DTSTAMP:20260425T050938
CREATED:20180423T151536Z
LAST-MODIFIED:20210311T143410Z
UID:10510-1637170200-1637172000@stlukesrenton.org
SUMMARY:Silent Meditation
DESCRIPTION:A half-hour of silent meditation begins at 5:30 pm. We gather in the sanctuary (altar area) of the church. \nTo best protect our community from the spread of COVID-19\, all church events have moved online. Please visit our online church hub at stlukesrenton.org/livestream for livestream liturgies\, Zoom classes\, prayer requests\, bulletins\, and other news.
URL:https://stlukesrenton.org/event/silent-meditation-2021-11-17/
LOCATION:St. Luke’s\, 99 Wells Ave S\, Renton\, 98057\, United States
CATEGORIES:Liturgy
ATTACH;FMTTYPE=image/jpeg:https://stlukesrenton.org/wp-content/uploads/2018/04/img_4697.jpg
ORGANIZER;CN="St. Luke's Episcopal Church":MAILTO:info@stlukesrenton.org
END:VEVENT
BEGIN:VEVENT
DTSTART;TZID=America/Los_Angeles:20211114T103000
DTEND;TZID=America/Los_Angeles:20211114T120000
DTSTAMP:20260425T050938
CREATED:20180423T152435Z
LAST-MODIFIED:20180423T152435Z
UID:10495-1636885800-1636891200@stlukesrenton.org
SUMMARY:Holy Eucharist
DESCRIPTION:We celebrate our lives in Christ\, proclaiming an authentic faith for real people. We proclaim God’s love for all through ritual\, song\, prayer\, scripture\, silence\, beauty\, and communion. \nTo best protect our community from the spread of COVID-19\, all church events have moved online. Please visit our online church hub at stlukesrenton.org/livestream for livestream liturgies\, Zoom classes\, prayer requests\, bulletins\, and other news.
URL:https://stlukesrenton.org/event/holy-eucharist-2-2020-04-12-2021-11-14/
LOCATION:St. Luke’s\, Main Church\, 99 Wells Ave S\, Renton\, WA\, 98057\, United States
CATEGORIES:Liturgy
ATTACH;FMTTYPE=image/jpeg:https://stlukesrenton.org/wp-content/uploads/2018/04/img_4692-1.jpg
ORGANIZER;CN="St. Luke's Episcopal Church":MAILTO:info@stlukesrenton.org
END:VEVENT
BEGIN:VEVENT
DTSTART;TZID=America/Los_Angeles:20211114T103000
DTEND;TZID=America/Los_Angeles:20211114T120000
DTSTAMP:20260425T050938
CREATED:20180423T152435Z
LAST-MODIFIED:20180423T152435Z
UID:10497-1636885800-1636891200@stlukesrenton.org
SUMMARY:Holy Eucharist
DESCRIPTION:We celebrate our lives in Christ\, proclaiming an authentic faith for real people. We proclaim God’s love for all through ritual\, song\, prayer\, scripture\, silence\, beauty\, and communion.
URL:https://stlukesrenton.org/event/holy-eucharist-2-2021-11-14/
LOCATION:St. Luke’s\, Main Church\, 99 Wells Ave S\, Renton\, WA\, 98057\, United States
CATEGORIES:Liturgy
ATTACH;FMTTYPE=image/jpeg:https://stlukesrenton.org/wp-content/uploads/2018/04/img_4692-1.jpg
ORGANIZER;CN="St. Luke's Episcopal Church":MAILTO:info@stlukesrenton.org
END:VEVENT
BEGIN:VEVENT
DTSTART;TZID=America/Los_Angeles:20211114T080000
DTEND;TZID=America/Los_Angeles:20211114T090000
DTSTAMP:20260425T050938
CREATED:20180423T152208Z
LAST-MODIFIED:20201229T192308Z
UID:10496-1636876800-1636880400@stlukesrenton.org
SUMMARY:Holy Eucharist
DESCRIPTION:We celebrate our lives in Christ\, proclaiming an authentic faith for real people. We proclaim God’s love for all through ritual\, song\, prayer\, scripture\, silence\, beauty\, and communion.
URL:https://stlukesrenton.org/event/holy-eucharist-2021-11-14/
LOCATION:St. Luke’s\, 99 Wells Ave S\, Renton\, 98057\, United States
CATEGORIES:Liturgy
ATTACH;FMTTYPE=image/jpeg:https://stlukesrenton.org/wp-content/uploads/2018/04/img_4700.jpg
ORGANIZER;CN="St. Luke's Episcopal Church":MAILTO:info@stlukesrenton.org
END:VEVENT
BEGIN:VEVENT
DTSTART;TZID=America/Los_Angeles:20211110T180000
DTEND;TZID=America/Los_Angeles:20211110T183000
DTSTAMP:20260425T050938
CREATED:20180423T151758Z
LAST-MODIFIED:20210311T143238Z
UID:10466-1636567200-1636569000@stlukesrenton.org
SUMMARY:Vesper Mass
DESCRIPTION:This intimate\, meditative liturgy begins with the Episcopal evening office (Evening Prayer) and continues with communion. We gather in the sanctuary (altar area) of the church for this half-hour liturgy. \nA half-hour of silent meditation begins before vesper mass at 5:30 pm.
URL:https://stlukesrenton.org/event/vesper-mass-2021-11-10/
LOCATION:St. Luke’s\, Main Church\, 99 Wells Ave S\, Renton\, WA\, 98057\, United States
CATEGORIES:Liturgy
ATTACH;FMTTYPE=image/jpeg:https://stlukesrenton.org/wp-content/uploads/2018/04/img_4692.jpg
ORGANIZER;CN="St. Luke's Episcopal Church":MAILTO:info@stlukesrenton.org
END:VEVENT
BEGIN:VEVENT
DTSTART;TZID=America/Los_Angeles:20211110T173000
DTEND;TZID=America/Los_Angeles:20211110T180000
DTSTAMP:20260425T050938
CREATED:20180423T151536Z
LAST-MODIFIED:20210311T143410Z
UID:10465-1636565400-1636567200@stlukesrenton.org
SUMMARY:Silent Meditation
DESCRIPTION:A half-hour of silent meditation begins at 5:30 pm. We gather in the sanctuary (altar area) of the church. \nTo best protect our community from the spread of COVID-19\, all church events have moved online. Please visit our online church hub at stlukesrenton.org/livestream for livestream liturgies\, Zoom classes\, prayer requests\, bulletins\, and other news.
URL:https://stlukesrenton.org/event/silent-meditation-2021-11-10/
LOCATION:St. Luke’s\, 99 Wells Ave S\, Renton\, 98057\, United States
CATEGORIES:Liturgy
ATTACH;FMTTYPE=image/jpeg:https://stlukesrenton.org/wp-content/uploads/2018/04/img_4697.jpg
ORGANIZER;CN="St. Luke's Episcopal Church":MAILTO:info@stlukesrenton.org
END:VEVENT
BEGIN:VEVENT
DTSTART;TZID=America/Los_Angeles:20211107T103000
DTEND;TZID=America/Los_Angeles:20211107T120000
DTSTAMP:20260425T050938
CREATED:20180423T152435Z
LAST-MODIFIED:20180423T152435Z
UID:10455-1636281000-1636286400@stlukesrenton.org
SUMMARY:Holy Eucharist
DESCRIPTION:We celebrate our lives in Christ\, proclaiming an authentic faith for real people. We proclaim God’s love for all through ritual\, song\, prayer\, scripture\, silence\, beauty\, and communion.
URL:https://stlukesrenton.org/event/holy-eucharist-2-2021-11-07/
LOCATION:St. Luke’s\, Main Church\, 99 Wells Ave S\, Renton\, WA\, 98057\, United States
CATEGORIES:Liturgy
ATTACH;FMTTYPE=image/jpeg:https://stlukesrenton.org/wp-content/uploads/2018/04/img_4692-1.jpg
ORGANIZER;CN="St. Luke's Episcopal Church":MAILTO:info@stlukesrenton.org
END:VEVENT
BEGIN:VEVENT
DTSTART;TZID=America/Los_Angeles:20211107T103000
DTEND;TZID=America/Los_Angeles:20211107T120000
DTSTAMP:20260425T050938
CREATED:20180423T152435Z
LAST-MODIFIED:20180423T152435Z
UID:10453-1636281000-1636286400@stlukesrenton.org
SUMMARY:Holy Eucharist
DESCRIPTION:We celebrate our lives in Christ\, proclaiming an authentic faith for real people. We proclaim God’s love for all through ritual\, song\, prayer\, scripture\, silence\, beauty\, and communion. \nTo best protect our community from the spread of COVID-19\, all church events have moved online. Please visit our online church hub at stlukesrenton.org/livestream for livestream liturgies\, Zoom classes\, prayer requests\, bulletins\, and other news.
URL:https://stlukesrenton.org/event/holy-eucharist-2-2020-04-12-2021-11-07/
LOCATION:St. Luke’s\, Main Church\, 99 Wells Ave S\, Renton\, WA\, 98057\, United States
CATEGORIES:Liturgy
ATTACH;FMTTYPE=image/jpeg:https://stlukesrenton.org/wp-content/uploads/2018/04/img_4692-1.jpg
ORGANIZER;CN="St. Luke's Episcopal Church":MAILTO:info@stlukesrenton.org
END:VEVENT
BEGIN:VEVENT
DTSTART;TZID=America/Los_Angeles:20211107T080000
DTEND;TZID=America/Los_Angeles:20211107T090000
DTSTAMP:20260425T050938
CREATED:20180423T152208Z
LAST-MODIFIED:20201229T192308Z
UID:10454-1636272000-1636275600@stlukesrenton.org
SUMMARY:Holy Eucharist
DESCRIPTION:We celebrate our lives in Christ\, proclaiming an authentic faith for real people. We proclaim God’s love for all through ritual\, song\, prayer\, scripture\, silence\, beauty\, and communion.
URL:https://stlukesrenton.org/event/holy-eucharist-2021-11-07/
LOCATION:St. Luke’s\, 99 Wells Ave S\, Renton\, 98057\, United States
CATEGORIES:Liturgy
ATTACH;FMTTYPE=image/jpeg:https://stlukesrenton.org/wp-content/uploads/2018/04/img_4700.jpg
ORGANIZER;CN="St. Luke's Episcopal Church":MAILTO:info@stlukesrenton.org
END:VEVENT
BEGIN:VEVENT
DTSTART;TZID=America/Los_Angeles:20211103T180000
DTEND;TZID=America/Los_Angeles:20211103T183000
DTSTAMP:20260425T050938
CREATED:20180423T151758Z
LAST-MODIFIED:20210311T143236Z
UID:10436-1635962400-1635964200@stlukesrenton.org
SUMMARY:Vesper Mass
DESCRIPTION:This intimate\, meditative liturgy begins with the Episcopal evening office (Evening Prayer) and continues with communion. We gather in the sanctuary (altar area) of the church for this half-hour liturgy. \nA half-hour of silent meditation begins before vesper mass at 5:30 pm.
URL:https://stlukesrenton.org/event/vesper-mass-2021-11-03/
LOCATION:St. Luke’s\, Main Church\, 99 Wells Ave S\, Renton\, WA\, 98057\, United States
CATEGORIES:Liturgy
ATTACH;FMTTYPE=image/jpeg:https://stlukesrenton.org/wp-content/uploads/2018/04/img_4692.jpg
ORGANIZER;CN="St. Luke's Episcopal Church":MAILTO:info@stlukesrenton.org
END:VEVENT
BEGIN:VEVENT
DTSTART;TZID=America/Los_Angeles:20211103T173000
DTEND;TZID=America/Los_Angeles:20211103T180000
DTSTAMP:20260425T050939
CREATED:20180423T151536Z
LAST-MODIFIED:20210311T143410Z
UID:10435-1635960600-1635962400@stlukesrenton.org
SUMMARY:Silent Meditation
DESCRIPTION:A half-hour of silent meditation begins at 5:30 pm. We gather in the sanctuary (altar area) of the church. \nTo best protect our community from the spread of COVID-19\, all church events have moved online. Please visit our online church hub at stlukesrenton.org/livestream for livestream liturgies\, Zoom classes\, prayer requests\, bulletins\, and other news.
URL:https://stlukesrenton.org/event/silent-meditation-2021-11-03/
LOCATION:St. Luke’s\, 99 Wells Ave S\, Renton\, 98057\, United States
CATEGORIES:Liturgy
ATTACH;FMTTYPE=image/jpeg:https://stlukesrenton.org/wp-content/uploads/2018/04/img_4697.jpg
ORGANIZER;CN="St. Luke's Episcopal Church":MAILTO:info@stlukesrenton.org
END:VEVENT
BEGIN:VEVENT
DTSTART;TZID=America/Los_Angeles:20211031T103000
DTEND;TZID=America/Los_Angeles:20211031T120000
DTSTAMP:20260425T050939
CREATED:20180423T152435Z
LAST-MODIFIED:20180423T152435Z
UID:10422-1635676200-1635681600@stlukesrenton.org
SUMMARY:Holy Eucharist
DESCRIPTION:We celebrate our lives in Christ\, proclaiming an authentic faith for real people. We proclaim God’s love for all through ritual\, song\, prayer\, scripture\, silence\, beauty\, and communion. \nTo best protect our community from the spread of COVID-19\, all church events have moved online. Please visit our online church hub at stlukesrenton.org/livestream for livestream liturgies\, Zoom classes\, prayer requests\, bulletins\, and other news.
URL:https://stlukesrenton.org/event/holy-eucharist-2-2020-04-12-2021-10-31/
LOCATION:St. Luke’s\, Main Church\, 99 Wells Ave S\, Renton\, WA\, 98057\, United States
CATEGORIES:Liturgy
ATTACH;FMTTYPE=image/jpeg:https://stlukesrenton.org/wp-content/uploads/2018/04/img_4692-1.jpg
ORGANIZER;CN="St. Luke's Episcopal Church":MAILTO:info@stlukesrenton.org
END:VEVENT
BEGIN:VEVENT
DTSTART;TZID=America/Los_Angeles:20211031T103000
DTEND;TZID=America/Los_Angeles:20211031T120000
DTSTAMP:20260425T050939
CREATED:20180423T152435Z
LAST-MODIFIED:20180423T152435Z
UID:10424-1635676200-1635681600@stlukesrenton.org
SUMMARY:Holy Eucharist
DESCRIPTION:We celebrate our lives in Christ\, proclaiming an authentic faith for real people. We proclaim God’s love for all through ritual\, song\, prayer\, scripture\, silence\, beauty\, and communion.
URL:https://stlukesrenton.org/event/holy-eucharist-2-2021-10-31/
LOCATION:St. Luke’s\, Main Church\, 99 Wells Ave S\, Renton\, WA\, 98057\, United States
CATEGORIES:Liturgy
ATTACH;FMTTYPE=image/jpeg:https://stlukesrenton.org/wp-content/uploads/2018/04/img_4692-1.jpg
ORGANIZER;CN="St. Luke's Episcopal Church":MAILTO:info@stlukesrenton.org
END:VEVENT
BEGIN:VEVENT
DTSTART;TZID=America/Los_Angeles:20211031T080000
DTEND;TZID=America/Los_Angeles:20211031T090000
DTSTAMP:20260425T050939
CREATED:20180423T152208Z
LAST-MODIFIED:20201229T192308Z
UID:10423-1635667200-1635670800@stlukesrenton.org
SUMMARY:Holy Eucharist
DESCRIPTION:We celebrate our lives in Christ\, proclaiming an authentic faith for real people. We proclaim God’s love for all through ritual\, song\, prayer\, scripture\, silence\, beauty\, and communion.
URL:https://stlukesrenton.org/event/holy-eucharist-2021-10-31/
LOCATION:St. Luke’s\, 99 Wells Ave S\, Renton\, 98057\, United States
CATEGORIES:Liturgy
ATTACH;FMTTYPE=image/jpeg:https://stlukesrenton.org/wp-content/uploads/2018/04/img_4700.jpg
ORGANIZER;CN="St. Luke's Episcopal Church":MAILTO:info@stlukesrenton.org
END:VEVENT
BEGIN:VEVENT
DTSTART;TZID=America/Los_Angeles:20211027T180000
DTEND;TZID=America/Los_Angeles:20211027T183000
DTSTAMP:20260425T050939
CREATED:20180423T151758Z
LAST-MODIFIED:20210311T143236Z
UID:10387-1635357600-1635359400@stlukesrenton.org
SUMMARY:Vesper Mass
DESCRIPTION:This intimate\, meditative liturgy begins with the Episcopal evening office (Evening Prayer) and continues with communion. We gather in the sanctuary (altar area) of the church for this half-hour liturgy. \nA half-hour of silent meditation begins before vesper mass at 5:30 pm.
URL:https://stlukesrenton.org/event/vesper-mass-2021-10-27/
LOCATION:St. Luke’s\, Main Church\, 99 Wells Ave S\, Renton\, WA\, 98057\, United States
CATEGORIES:Liturgy
ATTACH;FMTTYPE=image/jpeg:https://stlukesrenton.org/wp-content/uploads/2018/04/img_4692.jpg
ORGANIZER;CN="St. Luke's Episcopal Church":MAILTO:info@stlukesrenton.org
END:VEVENT
BEGIN:VEVENT
DTSTART;TZID=America/Los_Angeles:20211027T173000
DTEND;TZID=America/Los_Angeles:20211027T180000
DTSTAMP:20260425T050939
CREATED:20180423T151536Z
LAST-MODIFIED:20210311T143409Z
UID:10386-1635355800-1635357600@stlukesrenton.org
SUMMARY:Silent Meditation
DESCRIPTION:A half-hour of silent meditation begins at 5:30 pm. We gather in the sanctuary (altar area) of the church. \nTo best protect our community from the spread of COVID-19\, all church events have moved online. Please visit our online church hub at stlukesrenton.org/livestream for livestream liturgies\, Zoom classes\, prayer requests\, bulletins\, and other news.
URL:https://stlukesrenton.org/event/silent-meditation-2021-10-27/
LOCATION:St. Luke’s\, 99 Wells Ave S\, Renton\, 98057\, United States
CATEGORIES:Liturgy
ATTACH;FMTTYPE=image/jpeg:https://stlukesrenton.org/wp-content/uploads/2018/04/img_4697.jpg
ORGANIZER;CN="St. Luke's Episcopal Church":MAILTO:info@stlukesrenton.org
END:VEVENT
BEGIN:VEVENT
DTSTART;TZID=America/Los_Angeles:20211024T103000
DTEND;TZID=America/Los_Angeles:20211024T120000
DTSTAMP:20260425T050939
CREATED:20180423T152435Z
LAST-MODIFIED:20180423T152435Z
UID:10371-1635071400-1635076800@stlukesrenton.org
SUMMARY:Holy Eucharist
DESCRIPTION:We celebrate our lives in Christ\, proclaiming an authentic faith for real people. We proclaim God’s love for all through ritual\, song\, prayer\, scripture\, silence\, beauty\, and communion. \nTo best protect our community from the spread of COVID-19\, all church events have moved online. Please visit our online church hub at stlukesrenton.org/livestream for livestream liturgies\, Zoom classes\, prayer requests\, bulletins\, and other news.
URL:https://stlukesrenton.org/event/holy-eucharist-2-2020-04-12-2021-10-24/
LOCATION:St. Luke’s\, Main Church\, 99 Wells Ave S\, Renton\, WA\, 98057\, United States
CATEGORIES:Liturgy
ATTACH;FMTTYPE=image/jpeg:https://stlukesrenton.org/wp-content/uploads/2018/04/img_4692-1.jpg
ORGANIZER;CN="St. Luke's Episcopal Church":MAILTO:info@stlukesrenton.org
END:VEVENT
BEGIN:VEVENT
DTSTART;TZID=America/Los_Angeles:20211024T103000
DTEND;TZID=America/Los_Angeles:20211024T120000
DTSTAMP:20260425T050939
CREATED:20180423T152435Z
LAST-MODIFIED:20180423T152435Z
UID:10373-1635071400-1635076800@stlukesrenton.org
SUMMARY:Holy Eucharist
DESCRIPTION:We celebrate our lives in Christ\, proclaiming an authentic faith for real people. We proclaim God’s love for all through ritual\, song\, prayer\, scripture\, silence\, beauty\, and communion.
URL:https://stlukesrenton.org/event/holy-eucharist-2-2021-10-24/
LOCATION:St. Luke’s\, Main Church\, 99 Wells Ave S\, Renton\, WA\, 98057\, United States
CATEGORIES:Liturgy
ATTACH;FMTTYPE=image/jpeg:https://stlukesrenton.org/wp-content/uploads/2018/04/img_4692-1.jpg
ORGANIZER;CN="St. Luke's Episcopal Church":MAILTO:info@stlukesrenton.org
END:VEVENT
BEGIN:VEVENT
DTSTART;TZID=America/Los_Angeles:20211024T080000
DTEND;TZID=America/Los_Angeles:20211024T090000
DTSTAMP:20260425T050939
CREATED:20180423T152208Z
LAST-MODIFIED:20201229T192307Z
UID:10372-1635062400-1635066000@stlukesrenton.org
SUMMARY:Holy Eucharist
DESCRIPTION:We celebrate our lives in Christ\, proclaiming an authentic faith for real people. We proclaim God’s love for all through ritual\, song\, prayer\, scripture\, silence\, beauty\, and communion.
URL:https://stlukesrenton.org/event/holy-eucharist-2021-10-24/
LOCATION:St. Luke’s\, 99 Wells Ave S\, Renton\, 98057\, United States
CATEGORIES:Liturgy
ATTACH;FMTTYPE=image/jpeg:https://stlukesrenton.org/wp-content/uploads/2018/04/img_4700.jpg
ORGANIZER;CN="St. Luke's Episcopal Church":MAILTO:info@stlukesrenton.org
END:VEVENT
BEGIN:VEVENT
DTSTART;TZID=America/Los_Angeles:20211020T180000
DTEND;TZID=America/Los_Angeles:20211020T183000
DTSTAMP:20260425T050939
CREATED:20180423T151758Z
LAST-MODIFIED:20210311T143235Z
UID:10354-1634752800-1634754600@stlukesrenton.org
SUMMARY:Vesper Mass
DESCRIPTION:This intimate\, meditative liturgy begins with the Episcopal evening office (Evening Prayer) and continues with communion. We gather in the sanctuary (altar area) of the church for this half-hour liturgy. \nA half-hour of silent meditation begins before vesper mass at 5:30 pm.
URL:https://stlukesrenton.org/event/vesper-mass-2021-10-20/
LOCATION:St. Luke’s\, Main Church\, 99 Wells Ave S\, Renton\, WA\, 98057\, United States
CATEGORIES:Liturgy
ATTACH;FMTTYPE=image/jpeg:https://stlukesrenton.org/wp-content/uploads/2018/04/img_4692.jpg
ORGANIZER;CN="St. Luke's Episcopal Church":MAILTO:info@stlukesrenton.org
END:VEVENT
BEGIN:VEVENT
DTSTART;TZID=America/Los_Angeles:20211020T173000
DTEND;TZID=America/Los_Angeles:20211020T180000
DTSTAMP:20260425T050939
CREATED:20180423T151536Z
LAST-MODIFIED:20210311T143409Z
UID:10353-1634751000-1634752800@stlukesrenton.org
SUMMARY:Silent Meditation
DESCRIPTION:A half-hour of silent meditation begins at 5:30 pm. We gather in the sanctuary (altar area) of the church. \nTo best protect our community from the spread of COVID-19\, all church events have moved online. Please visit our online church hub at stlukesrenton.org/livestream for livestream liturgies\, Zoom classes\, prayer requests\, bulletins\, and other news.
URL:https://stlukesrenton.org/event/silent-meditation-2021-10-20/
LOCATION:St. Luke’s\, 99 Wells Ave S\, Renton\, 98057\, United States
CATEGORIES:Liturgy
ATTACH;FMTTYPE=image/jpeg:https://stlukesrenton.org/wp-content/uploads/2018/04/img_4697.jpg
ORGANIZER;CN="St. Luke's Episcopal Church":MAILTO:info@stlukesrenton.org
END:VEVENT
BEGIN:VEVENT
DTSTART;TZID=America/Los_Angeles:20211017T103000
DTEND;TZID=America/Los_Angeles:20211017T120000
DTSTAMP:20260425T050939
CREATED:20180423T152435Z
LAST-MODIFIED:20180423T152435Z
UID:10343-1634466600-1634472000@stlukesrenton.org
SUMMARY:Holy Eucharist
DESCRIPTION:We celebrate our lives in Christ\, proclaiming an authentic faith for real people. We proclaim God’s love for all through ritual\, song\, prayer\, scripture\, silence\, beauty\, and communion.
URL:https://stlukesrenton.org/event/holy-eucharist-2-2021-10-17/
LOCATION:St. Luke’s\, Main Church\, 99 Wells Ave S\, Renton\, WA\, 98057\, United States
CATEGORIES:Liturgy
ATTACH;FMTTYPE=image/jpeg:https://stlukesrenton.org/wp-content/uploads/2018/04/img_4692-1.jpg
ORGANIZER;CN="St. Luke's Episcopal Church":MAILTO:info@stlukesrenton.org
END:VEVENT
BEGIN:VEVENT
DTSTART;TZID=America/Los_Angeles:20211017T103000
DTEND;TZID=America/Los_Angeles:20211017T120000
DTSTAMP:20260425T050939
CREATED:20180423T152435Z
LAST-MODIFIED:20180423T152435Z
UID:10341-1634466600-1634472000@stlukesrenton.org
SUMMARY:Holy Eucharist
DESCRIPTION:We celebrate our lives in Christ\, proclaiming an authentic faith for real people. We proclaim God’s love for all through ritual\, song\, prayer\, scripture\, silence\, beauty\, and communion. \nTo best protect our community from the spread of COVID-19\, all church events have moved online. Please visit our online church hub at stlukesrenton.org/livestream for livestream liturgies\, Zoom classes\, prayer requests\, bulletins\, and other news.
URL:https://stlukesrenton.org/event/holy-eucharist-2-2020-04-12-2021-10-17/
LOCATION:St. Luke’s\, Main Church\, 99 Wells Ave S\, Renton\, WA\, 98057\, United States
CATEGORIES:Liturgy
ATTACH;FMTTYPE=image/jpeg:https://stlukesrenton.org/wp-content/uploads/2018/04/img_4692-1.jpg
ORGANIZER;CN="St. Luke's Episcopal Church":MAILTO:info@stlukesrenton.org
END:VEVENT
BEGIN:VEVENT
DTSTART;TZID=America/Los_Angeles:20211017T080000
DTEND;TZID=America/Los_Angeles:20211017T090000
DTSTAMP:20260425T050939
CREATED:20180423T152208Z
LAST-MODIFIED:20201229T192307Z
UID:10342-1634457600-1634461200@stlukesrenton.org
SUMMARY:Holy Eucharist
DESCRIPTION:We celebrate our lives in Christ\, proclaiming an authentic faith for real people. We proclaim God’s love for all through ritual\, song\, prayer\, scripture\, silence\, beauty\, and communion.
URL:https://stlukesrenton.org/event/holy-eucharist-2021-10-17/
LOCATION:St. Luke’s\, 99 Wells Ave S\, Renton\, 98057\, United States
CATEGORIES:Liturgy
ATTACH;FMTTYPE=image/jpeg:https://stlukesrenton.org/wp-content/uploads/2018/04/img_4700.jpg
ORGANIZER;CN="St. Luke's Episcopal Church":MAILTO:info@stlukesrenton.org
END:VEVENT
BEGIN:VEVENT
DTSTART;TZID=America/Los_Angeles:20211013T180000
DTEND;TZID=America/Los_Angeles:20211013T183000
DTSTAMP:20260425T050939
CREATED:20180423T151758Z
LAST-MODIFIED:20210311T143235Z
UID:10197-1634148000-1634149800@stlukesrenton.org
SUMMARY:Vesper Mass
DESCRIPTION:This intimate\, meditative liturgy begins with the Episcopal evening office (Evening Prayer) and continues with communion. We gather in the sanctuary (altar area) of the church for this half-hour liturgy. \nA half-hour of silent meditation begins before vesper mass at 5:30 pm.
URL:https://stlukesrenton.org/event/vesper-mass-2021-10-13/
LOCATION:St. Luke’s\, Main Church\, 99 Wells Ave S\, Renton\, WA\, 98057\, United States
CATEGORIES:Liturgy
ATTACH;FMTTYPE=image/jpeg:https://stlukesrenton.org/wp-content/uploads/2018/04/img_4692.jpg
ORGANIZER;CN="St. Luke's Episcopal Church":MAILTO:info@stlukesrenton.org
END:VEVENT
BEGIN:VEVENT
DTSTART;TZID=America/Los_Angeles:20211013T173000
DTEND;TZID=America/Los_Angeles:20211013T180000
DTSTAMP:20260425T050939
CREATED:20180423T151536Z
LAST-MODIFIED:20210311T143409Z
UID:10196-1634146200-1634148000@stlukesrenton.org
SUMMARY:Silent Meditation
DESCRIPTION:A half-hour of silent meditation begins at 5:30 pm. We gather in the sanctuary (altar area) of the church. \nTo best protect our community from the spread of COVID-19\, all church events have moved online. Please visit our online church hub at stlukesrenton.org/livestream for livestream liturgies\, Zoom classes\, prayer requests\, bulletins\, and other news.
URL:https://stlukesrenton.org/event/silent-meditation-2021-10-13/
LOCATION:St. Luke’s\, 99 Wells Ave S\, Renton\, 98057\, United States
CATEGORIES:Liturgy
ATTACH;FMTTYPE=image/jpeg:https://stlukesrenton.org/wp-content/uploads/2018/04/img_4697.jpg
ORGANIZER;CN="St. Luke's Episcopal Church":MAILTO:info@stlukesrenton.org
END:VEVENT
BEGIN:VEVENT
DTSTART;TZID=America/Los_Angeles:20211010T103000
DTEND;TZID=America/Los_Angeles:20211010T120000
DTSTAMP:20260425T050939
CREATED:20180423T152435Z
LAST-MODIFIED:20180423T152435Z
UID:10181-1633861800-1633867200@stlukesrenton.org
SUMMARY:Holy Eucharist
DESCRIPTION:We celebrate our lives in Christ\, proclaiming an authentic faith for real people. We proclaim God’s love for all through ritual\, song\, prayer\, scripture\, silence\, beauty\, and communion. \nTo best protect our community from the spread of COVID-19\, all church events have moved online. Please visit our online church hub at stlukesrenton.org/livestream for livestream liturgies\, Zoom classes\, prayer requests\, bulletins\, and other news.
URL:https://stlukesrenton.org/event/holy-eucharist-2-2020-04-12-2021-10-10/
LOCATION:St. Luke’s\, Main Church\, 99 Wells Ave S\, Renton\, WA\, 98057\, United States
CATEGORIES:Liturgy
ATTACH;FMTTYPE=image/jpeg:https://stlukesrenton.org/wp-content/uploads/2018/04/img_4692-1.jpg
ORGANIZER;CN="St. Luke's Episcopal Church":MAILTO:info@stlukesrenton.org
END:VEVENT
END:VCALENDAR