BEGIN:VCALENDAR
VERSION:2.0
PRODID:-//St. Luke&#039;s Episcopal Church - ECPv6.15.20//NONSGML v1.0//EN
CALSCALE:GREGORIAN
METHOD:PUBLISH
X-WR-CALNAME:St. Luke&#039;s Episcopal Church
X-ORIGINAL-URL:https://stlukesrenton.org
X-WR-CALDESC:Events for St. Luke&#039;s Episcopal Church
REFRESH-INTERVAL;VALUE=DURATION:PT1H
X-Robots-Tag:noindex
X-PUBLISHED-TTL:PT1H
BEGIN:VTIMEZONE
TZID:America/Los_Angeles
BEGIN:DAYLIGHT
TZOFFSETFROM:-0800
TZOFFSETTO:-0700
TZNAME:PDT
DTSTART:20200308T100000
END:DAYLIGHT
BEGIN:STANDARD
TZOFFSETFROM:-0700
TZOFFSETTO:-0800
TZNAME:PST
DTSTART:20201101T090000
END:STANDARD
BEGIN:DAYLIGHT
TZOFFSETFROM:-0800
TZOFFSETTO:-0700
TZNAME:PDT
DTSTART:20210314T100000
END:DAYLIGHT
BEGIN:STANDARD
TZOFFSETFROM:-0700
TZOFFSETTO:-0800
TZNAME:PST
DTSTART:20211107T090000
END:STANDARD
BEGIN:DAYLIGHT
TZOFFSETFROM:-0800
TZOFFSETTO:-0700
TZNAME:PDT
DTSTART:20220313T100000
END:DAYLIGHT
BEGIN:STANDARD
TZOFFSETFROM:-0700
TZOFFSETTO:-0800
TZNAME:PST
DTSTART:20221106T090000
END:STANDARD
END:VTIMEZONE
BEGIN:VEVENT
DTSTART;TZID=America/Los_Angeles:20210721T180000
DTEND;TZID=America/Los_Angeles:20210721T183000
DTSTAMP:20260425T140627
CREATED:20180423T151758Z
LAST-MODIFIED:20210311T143157Z
UID:8915-1626890400-1626892200@stlukesrenton.org
SUMMARY:Vesper Mass
DESCRIPTION:This intimate\, meditative liturgy begins with the Episcopal evening office (Evening Prayer) and continues with communion. We gather in the sanctuary (altar area) of the church for this half-hour liturgy. \nA half-hour of silent meditation begins before vesper mass at 5:30 pm.
URL:https://stlukesrenton.org/event/vesper-mass-2021-07-21/
LOCATION:St. Luke’s\, Main Church\, 99 Wells Ave S\, Renton\, WA\, 98057\, United States
CATEGORIES:Liturgy
ATTACH;FMTTYPE=image/jpeg:https://stlukesrenton.org/wp-content/uploads/2018/04/img_4692.jpg
ORGANIZER;CN="St. Luke's Episcopal Church":MAILTO:info@stlukesrenton.org
END:VEVENT
BEGIN:VEVENT
DTSTART;TZID=America/Los_Angeles:20210721T173000
DTEND;TZID=America/Los_Angeles:20210721T180000
DTSTAMP:20260425T140627
CREATED:20180423T151536Z
LAST-MODIFIED:20210311T143402Z
UID:8914-1626888600-1626890400@stlukesrenton.org
SUMMARY:Silent Meditation
DESCRIPTION:A half-hour of silent meditation begins at 5:30 pm. We gather in the sanctuary (altar area) of the church. \nTo best protect our community from the spread of COVID-19\, all church events have moved online. Please visit our online church hub at stlukesrenton.org/livestream for livestream liturgies\, Zoom classes\, prayer requests\, bulletins\, and other news.
URL:https://stlukesrenton.org/event/silent-meditation-2021-07-21/
LOCATION:St. Luke’s\, 99 Wells Ave S\, Renton\, 98057\, United States
CATEGORIES:Liturgy
ATTACH;FMTTYPE=image/jpeg:https://stlukesrenton.org/wp-content/uploads/2018/04/img_4697.jpg
ORGANIZER;CN="St. Luke's Episcopal Church":MAILTO:info@stlukesrenton.org
END:VEVENT
BEGIN:VEVENT
DTSTART;TZID=America/Los_Angeles:20210718T103000
DTEND;TZID=America/Los_Angeles:20210718T120000
DTSTAMP:20260425T140627
CREATED:20180423T152435Z
LAST-MODIFIED:20180423T152435Z
UID:8903-1626604200-1626609600@stlukesrenton.org
SUMMARY:Holy Eucharist
DESCRIPTION:We celebrate our lives in Christ\, proclaiming an authentic faith for real people. We proclaim God’s love for all through ritual\, song\, prayer\, scripture\, silence\, beauty\, and communion. \nTo best protect our community from the spread of COVID-19\, all church events have moved online. Please visit our online church hub at stlukesrenton.org/livestream for livestream liturgies\, Zoom classes\, prayer requests\, bulletins\, and other news.
URL:https://stlukesrenton.org/event/holy-eucharist-2-2020-04-12-2021-07-18/
LOCATION:St. Luke’s\, Main Church\, 99 Wells Ave S\, Renton\, WA\, 98057\, United States
CATEGORIES:Liturgy
ATTACH;FMTTYPE=image/jpeg:https://stlukesrenton.org/wp-content/uploads/2018/04/img_4692-1.jpg
ORGANIZER;CN="St. Luke's Episcopal Church":MAILTO:info@stlukesrenton.org
END:VEVENT
BEGIN:VEVENT
DTSTART;TZID=America/Los_Angeles:20210718T103000
DTEND;TZID=America/Los_Angeles:20210718T120000
DTSTAMP:20260425T140627
CREATED:20180423T152435Z
LAST-MODIFIED:20180423T152435Z
UID:8905-1626604200-1626609600@stlukesrenton.org
SUMMARY:Holy Eucharist
DESCRIPTION:We celebrate our lives in Christ\, proclaiming an authentic faith for real people. We proclaim God’s love for all through ritual\, song\, prayer\, scripture\, silence\, beauty\, and communion.
URL:https://stlukesrenton.org/event/holy-eucharist-2-2021-07-18/
LOCATION:St. Luke’s\, Main Church\, 99 Wells Ave S\, Renton\, WA\, 98057\, United States
CATEGORIES:Liturgy
ATTACH;FMTTYPE=image/jpeg:https://stlukesrenton.org/wp-content/uploads/2018/04/img_4692-1.jpg
ORGANIZER;CN="St. Luke's Episcopal Church":MAILTO:info@stlukesrenton.org
END:VEVENT
BEGIN:VEVENT
DTSTART;TZID=America/Los_Angeles:20210718T080000
DTEND;TZID=America/Los_Angeles:20210718T090000
DTSTAMP:20260425T140627
CREATED:20180423T152208Z
LAST-MODIFIED:20201229T192233Z
UID:8904-1626595200-1626598800@stlukesrenton.org
SUMMARY:Holy Eucharist
DESCRIPTION:We celebrate our lives in Christ\, proclaiming an authentic faith for real people. We proclaim God’s love for all through ritual\, song\, prayer\, scripture\, silence\, beauty\, and communion.
URL:https://stlukesrenton.org/event/holy-eucharist-2021-07-18/
LOCATION:St. Luke’s\, 99 Wells Ave S\, Renton\, 98057\, United States
CATEGORIES:Liturgy
ATTACH;FMTTYPE=image/jpeg:https://stlukesrenton.org/wp-content/uploads/2018/04/img_4700.jpg
ORGANIZER;CN="St. Luke's Episcopal Church":MAILTO:info@stlukesrenton.org
END:VEVENT
BEGIN:VEVENT
DTSTART;TZID=America/Los_Angeles:20210714T180000
DTEND;TZID=America/Los_Angeles:20210714T183000
DTSTAMP:20260425T140627
CREATED:20180423T151758Z
LAST-MODIFIED:20210311T143157Z
UID:8898-1626285600-1626287400@stlukesrenton.org
SUMMARY:Vesper Mass
DESCRIPTION:This intimate\, meditative liturgy begins with the Episcopal evening office (Evening Prayer) and continues with communion. We gather in the sanctuary (altar area) of the church for this half-hour liturgy. \nA half-hour of silent meditation begins before vesper mass at 5:30 pm.
URL:https://stlukesrenton.org/event/vesper-mass-2021-07-14/
LOCATION:St. Luke’s\, Main Church\, 99 Wells Ave S\, Renton\, WA\, 98057\, United States
CATEGORIES:Liturgy
ATTACH;FMTTYPE=image/jpeg:https://stlukesrenton.org/wp-content/uploads/2018/04/img_4692.jpg
ORGANIZER;CN="St. Luke's Episcopal Church":MAILTO:info@stlukesrenton.org
END:VEVENT
BEGIN:VEVENT
DTSTART;TZID=America/Los_Angeles:20210714T173000
DTEND;TZID=America/Los_Angeles:20210714T180000
DTSTAMP:20260425T140627
CREATED:20180423T151536Z
LAST-MODIFIED:20210311T143402Z
UID:8897-1626283800-1626285600@stlukesrenton.org
SUMMARY:Silent Meditation
DESCRIPTION:A half-hour of silent meditation begins at 5:30 pm. We gather in the sanctuary (altar area) of the church. \nTo best protect our community from the spread of COVID-19\, all church events have moved online. Please visit our online church hub at stlukesrenton.org/livestream for livestream liturgies\, Zoom classes\, prayer requests\, bulletins\, and other news.
URL:https://stlukesrenton.org/event/silent-meditation-2021-07-14/
LOCATION:St. Luke’s\, 99 Wells Ave S\, Renton\, 98057\, United States
CATEGORIES:Liturgy
ATTACH;FMTTYPE=image/jpeg:https://stlukesrenton.org/wp-content/uploads/2018/04/img_4697.jpg
ORGANIZER;CN="St. Luke's Episcopal Church":MAILTO:info@stlukesrenton.org
END:VEVENT
BEGIN:VEVENT
DTSTART;TZID=America/Los_Angeles:20210711T103000
DTEND;TZID=America/Los_Angeles:20210711T120000
DTSTAMP:20260425T140627
CREATED:20180423T152435Z
LAST-MODIFIED:20180423T152435Z
UID:8888-1625999400-1626004800@stlukesrenton.org
SUMMARY:Holy Eucharist
DESCRIPTION:We celebrate our lives in Christ\, proclaiming an authentic faith for real people. We proclaim God’s love for all through ritual\, song\, prayer\, scripture\, silence\, beauty\, and communion.
URL:https://stlukesrenton.org/event/holy-eucharist-2-2021-07-11/
LOCATION:St. Luke’s\, Main Church\, 99 Wells Ave S\, Renton\, WA\, 98057\, United States
CATEGORIES:Liturgy
ATTACH;FMTTYPE=image/jpeg:https://stlukesrenton.org/wp-content/uploads/2018/04/img_4692-1.jpg
ORGANIZER;CN="St. Luke's Episcopal Church":MAILTO:info@stlukesrenton.org
END:VEVENT
BEGIN:VEVENT
DTSTART;TZID=America/Los_Angeles:20210711T103000
DTEND;TZID=America/Los_Angeles:20210711T120000
DTSTAMP:20260425T140627
CREATED:20180423T152435Z
LAST-MODIFIED:20180423T152435Z
UID:8886-1625999400-1626004800@stlukesrenton.org
SUMMARY:Holy Eucharist
DESCRIPTION:We celebrate our lives in Christ\, proclaiming an authentic faith for real people. We proclaim God’s love for all through ritual\, song\, prayer\, scripture\, silence\, beauty\, and communion. \nTo best protect our community from the spread of COVID-19\, all church events have moved online. Please visit our online church hub at stlukesrenton.org/livestream for livestream liturgies\, Zoom classes\, prayer requests\, bulletins\, and other news.
URL:https://stlukesrenton.org/event/holy-eucharist-2-2020-04-12-2021-07-11/
LOCATION:St. Luke’s\, Main Church\, 99 Wells Ave S\, Renton\, WA\, 98057\, United States
CATEGORIES:Liturgy
ATTACH;FMTTYPE=image/jpeg:https://stlukesrenton.org/wp-content/uploads/2018/04/img_4692-1.jpg
ORGANIZER;CN="St. Luke's Episcopal Church":MAILTO:info@stlukesrenton.org
END:VEVENT
BEGIN:VEVENT
DTSTART;TZID=America/Los_Angeles:20210711T080000
DTEND;TZID=America/Los_Angeles:20210711T090000
DTSTAMP:20260425T140627
CREATED:20180423T152208Z
LAST-MODIFIED:20201229T192233Z
UID:8887-1625990400-1625994000@stlukesrenton.org
SUMMARY:Holy Eucharist
DESCRIPTION:We celebrate our lives in Christ\, proclaiming an authentic faith for real people. We proclaim God’s love for all through ritual\, song\, prayer\, scripture\, silence\, beauty\, and communion.
URL:https://stlukesrenton.org/event/holy-eucharist-2021-07-11/
LOCATION:St. Luke’s\, 99 Wells Ave S\, Renton\, 98057\, United States
CATEGORIES:Liturgy
ATTACH;FMTTYPE=image/jpeg:https://stlukesrenton.org/wp-content/uploads/2018/04/img_4700.jpg
ORGANIZER;CN="St. Luke's Episcopal Church":MAILTO:info@stlukesrenton.org
END:VEVENT
BEGIN:VEVENT
DTSTART;TZID=America/Los_Angeles:20210707T180000
DTEND;TZID=America/Los_Angeles:20210707T183000
DTSTAMP:20260425T140627
CREATED:20180423T151758Z
LAST-MODIFIED:20210311T143157Z
UID:8876-1625680800-1625682600@stlukesrenton.org
SUMMARY:Vesper Mass
DESCRIPTION:This intimate\, meditative liturgy begins with the Episcopal evening office (Evening Prayer) and continues with communion. We gather in the sanctuary (altar area) of the church for this half-hour liturgy. \nA half-hour of silent meditation begins before vesper mass at 5:30 pm.
URL:https://stlukesrenton.org/event/vesper-mass-2021-07-07/
LOCATION:St. Luke’s\, Main Church\, 99 Wells Ave S\, Renton\, WA\, 98057\, United States
CATEGORIES:Liturgy
ATTACH;FMTTYPE=image/jpeg:https://stlukesrenton.org/wp-content/uploads/2018/04/img_4692.jpg
ORGANIZER;CN="St. Luke's Episcopal Church":MAILTO:info@stlukesrenton.org
END:VEVENT
BEGIN:VEVENT
DTSTART;TZID=America/Los_Angeles:20210707T173000
DTEND;TZID=America/Los_Angeles:20210707T180000
DTSTAMP:20260425T140627
CREATED:20180423T151536Z
LAST-MODIFIED:20210311T143351Z
UID:8875-1625679000-1625680800@stlukesrenton.org
SUMMARY:Silent Meditation
DESCRIPTION:A half-hour of silent meditation begins at 5:30 pm. We gather in the sanctuary (altar area) of the church. \nTo best protect our community from the spread of COVID-19\, all church events have moved online. Please visit our online church hub at stlukesrenton.org/livestream for livestream liturgies\, Zoom classes\, prayer requests\, bulletins\, and other news.
URL:https://stlukesrenton.org/event/silent-meditation-2021-07-07/
LOCATION:St. Luke’s\, 99 Wells Ave S\, Renton\, 98057\, United States
CATEGORIES:Liturgy
ATTACH;FMTTYPE=image/jpeg:https://stlukesrenton.org/wp-content/uploads/2018/04/img_4697.jpg
ORGANIZER;CN="St. Luke's Episcopal Church":MAILTO:info@stlukesrenton.org
END:VEVENT
BEGIN:VEVENT
DTSTART;TZID=America/Los_Angeles:20210704T103000
DTEND;TZID=America/Los_Angeles:20210704T120000
DTSTAMP:20260425T140627
CREATED:20180423T152435Z
LAST-MODIFIED:20180423T152435Z
UID:8849-1625394600-1625400000@stlukesrenton.org
SUMMARY:Holy Eucharist
DESCRIPTION:We celebrate our lives in Christ\, proclaiming an authentic faith for real people. We proclaim God’s love for all through ritual\, song\, prayer\, scripture\, silence\, beauty\, and communion. \nTo best protect our community from the spread of COVID-19\, all church events have moved online. Please visit our online church hub at stlukesrenton.org/livestream for livestream liturgies\, Zoom classes\, prayer requests\, bulletins\, and other news.
URL:https://stlukesrenton.org/event/holy-eucharist-2-2020-04-12-2021-07-04/
LOCATION:St. Luke’s\, Main Church\, 99 Wells Ave S\, Renton\, WA\, 98057\, United States
CATEGORIES:Liturgy
ATTACH;FMTTYPE=image/jpeg:https://stlukesrenton.org/wp-content/uploads/2018/04/img_4692-1.jpg
ORGANIZER;CN="St. Luke's Episcopal Church":MAILTO:info@stlukesrenton.org
END:VEVENT
BEGIN:VEVENT
DTSTART;TZID=America/Los_Angeles:20210704T103000
DTEND;TZID=America/Los_Angeles:20210704T120000
DTSTAMP:20260425T140627
CREATED:20180423T152435Z
LAST-MODIFIED:20180423T152435Z
UID:8851-1625394600-1625400000@stlukesrenton.org
SUMMARY:Holy Eucharist
DESCRIPTION:We celebrate our lives in Christ\, proclaiming an authentic faith for real people. We proclaim God’s love for all through ritual\, song\, prayer\, scripture\, silence\, beauty\, and communion.
URL:https://stlukesrenton.org/event/holy-eucharist-2-2021-07-04/
LOCATION:St. Luke’s\, Main Church\, 99 Wells Ave S\, Renton\, WA\, 98057\, United States
CATEGORIES:Liturgy
ATTACH;FMTTYPE=image/jpeg:https://stlukesrenton.org/wp-content/uploads/2018/04/img_4692-1.jpg
ORGANIZER;CN="St. Luke's Episcopal Church":MAILTO:info@stlukesrenton.org
END:VEVENT
BEGIN:VEVENT
DTSTART;TZID=America/Los_Angeles:20210704T080000
DTEND;TZID=America/Los_Angeles:20210704T090000
DTSTAMP:20260425T140627
CREATED:20180423T152208Z
LAST-MODIFIED:20201229T192232Z
UID:8850-1625385600-1625389200@stlukesrenton.org
SUMMARY:Holy Eucharist
DESCRIPTION:We celebrate our lives in Christ\, proclaiming an authentic faith for real people. We proclaim God’s love for all through ritual\, song\, prayer\, scripture\, silence\, beauty\, and communion.
URL:https://stlukesrenton.org/event/holy-eucharist-2021-07-04/
LOCATION:St. Luke’s\, 99 Wells Ave S\, Renton\, 98057\, United States
CATEGORIES:Liturgy
ATTACH;FMTTYPE=image/jpeg:https://stlukesrenton.org/wp-content/uploads/2018/04/img_4700.jpg
ORGANIZER;CN="St. Luke's Episcopal Church":MAILTO:info@stlukesrenton.org
END:VEVENT
BEGIN:VEVENT
DTSTART;TZID=America/Los_Angeles:20210630T180000
DTEND;TZID=America/Los_Angeles:20210630T183000
DTSTAMP:20260425T140627
CREATED:20180423T151758Z
LAST-MODIFIED:20210311T143156Z
UID:8775-1625076000-1625077800@stlukesrenton.org
SUMMARY:Vesper Mass
DESCRIPTION:This intimate\, meditative liturgy begins with the Episcopal evening office (Evening Prayer) and continues with communion. We gather in the sanctuary (altar area) of the church for this half-hour liturgy. \nA half-hour of silent meditation begins before vesper mass at 5:30 pm.
URL:https://stlukesrenton.org/event/vesper-mass-2021-06-30/
LOCATION:St. Luke’s\, Main Church\, 99 Wells Ave S\, Renton\, WA\, 98057\, United States
CATEGORIES:Liturgy
ATTACH;FMTTYPE=image/jpeg:https://stlukesrenton.org/wp-content/uploads/2018/04/img_4692.jpg
ORGANIZER;CN="St. Luke's Episcopal Church":MAILTO:info@stlukesrenton.org
END:VEVENT
BEGIN:VEVENT
DTSTART;TZID=America/Los_Angeles:20210630T173000
DTEND;TZID=America/Los_Angeles:20210630T180000
DTSTAMP:20260425T140627
CREATED:20180423T151536Z
LAST-MODIFIED:20210311T143351Z
UID:8774-1625074200-1625076000@stlukesrenton.org
SUMMARY:Silent Meditation
DESCRIPTION:A half-hour of silent meditation begins at 5:30 pm. We gather in the sanctuary (altar area) of the church. \nTo best protect our community from the spread of COVID-19\, all church events have moved online. Please visit our online church hub at stlukesrenton.org/livestream for livestream liturgies\, Zoom classes\, prayer requests\, bulletins\, and other news.
URL:https://stlukesrenton.org/event/silent-meditation-2021-06-30/
LOCATION:St. Luke’s\, 99 Wells Ave S\, Renton\, 98057\, United States
CATEGORIES:Liturgy
ATTACH;FMTTYPE=image/jpeg:https://stlukesrenton.org/wp-content/uploads/2018/04/img_4697.jpg
ORGANIZER;CN="St. Luke's Episcopal Church":MAILTO:info@stlukesrenton.org
END:VEVENT
BEGIN:VEVENT
DTSTART;TZID=America/Los_Angeles:20210627T103000
DTEND;TZID=America/Los_Angeles:20210627T120000
DTSTAMP:20260425T140627
CREATED:20180423T152435Z
LAST-MODIFIED:20180423T152435Z
UID:8762-1624789800-1624795200@stlukesrenton.org
SUMMARY:Holy Eucharist
DESCRIPTION:We celebrate our lives in Christ\, proclaiming an authentic faith for real people. We proclaim God’s love for all through ritual\, song\, prayer\, scripture\, silence\, beauty\, and communion. \nTo best protect our community from the spread of COVID-19\, all church events have moved online. Please visit our online church hub at stlukesrenton.org/livestream for livestream liturgies\, Zoom classes\, prayer requests\, bulletins\, and other news.
URL:https://stlukesrenton.org/event/holy-eucharist-2-2020-04-12-2021-06-27/
LOCATION:St. Luke’s\, Main Church\, 99 Wells Ave S\, Renton\, WA\, 98057\, United States
CATEGORIES:Liturgy
ATTACH;FMTTYPE=image/jpeg:https://stlukesrenton.org/wp-content/uploads/2018/04/img_4692-1.jpg
ORGANIZER;CN="St. Luke's Episcopal Church":MAILTO:info@stlukesrenton.org
END:VEVENT
BEGIN:VEVENT
DTSTART;TZID=America/Los_Angeles:20210627T103000
DTEND;TZID=America/Los_Angeles:20210627T120000
DTSTAMP:20260425T140627
CREATED:20180423T152435Z
LAST-MODIFIED:20180423T152435Z
UID:8764-1624789800-1624795200@stlukesrenton.org
SUMMARY:Holy Eucharist
DESCRIPTION:We celebrate our lives in Christ\, proclaiming an authentic faith for real people. We proclaim God’s love for all through ritual\, song\, prayer\, scripture\, silence\, beauty\, and communion.
URL:https://stlukesrenton.org/event/holy-eucharist-2-2021-06-27/
LOCATION:St. Luke’s\, Main Church\, 99 Wells Ave S\, Renton\, WA\, 98057\, United States
CATEGORIES:Liturgy
ATTACH;FMTTYPE=image/jpeg:https://stlukesrenton.org/wp-content/uploads/2018/04/img_4692-1.jpg
ORGANIZER;CN="St. Luke's Episcopal Church":MAILTO:info@stlukesrenton.org
END:VEVENT
BEGIN:VEVENT
DTSTART;TZID=America/Los_Angeles:20210627T080000
DTEND;TZID=America/Los_Angeles:20210627T090000
DTSTAMP:20260425T140627
CREATED:20180423T152208Z
LAST-MODIFIED:20201229T192232Z
UID:8763-1624780800-1624784400@stlukesrenton.org
SUMMARY:Holy Eucharist
DESCRIPTION:We celebrate our lives in Christ\, proclaiming an authentic faith for real people. We proclaim God’s love for all through ritual\, song\, prayer\, scripture\, silence\, beauty\, and communion.
URL:https://stlukesrenton.org/event/holy-eucharist-2021-06-27/
LOCATION:St. Luke’s\, 99 Wells Ave S\, Renton\, 98057\, United States
CATEGORIES:Liturgy
ATTACH;FMTTYPE=image/jpeg:https://stlukesrenton.org/wp-content/uploads/2018/04/img_4700.jpg
ORGANIZER;CN="St. Luke's Episcopal Church":MAILTO:info@stlukesrenton.org
END:VEVENT
BEGIN:VEVENT
DTSTART;TZID=America/Los_Angeles:20210623T180000
DTEND;TZID=America/Los_Angeles:20210623T183000
DTSTAMP:20260425T140627
CREATED:20180423T151758Z
LAST-MODIFIED:20210311T143156Z
UID:8721-1624471200-1624473000@stlukesrenton.org
SUMMARY:Vesper Mass
DESCRIPTION:This intimate\, meditative liturgy begins with the Episcopal evening office (Evening Prayer) and continues with communion. We gather in the sanctuary (altar area) of the church for this half-hour liturgy. \nA half-hour of silent meditation begins before vesper mass at 5:30 pm.
URL:https://stlukesrenton.org/event/vesper-mass-2021-06-23/
LOCATION:St. Luke’s\, Main Church\, 99 Wells Ave S\, Renton\, WA\, 98057\, United States
CATEGORIES:Liturgy
ATTACH;FMTTYPE=image/jpeg:https://stlukesrenton.org/wp-content/uploads/2018/04/img_4692.jpg
ORGANIZER;CN="St. Luke's Episcopal Church":MAILTO:info@stlukesrenton.org
END:VEVENT
BEGIN:VEVENT
DTSTART;TZID=America/Los_Angeles:20210623T173000
DTEND;TZID=America/Los_Angeles:20210623T180000
DTSTAMP:20260425T140627
CREATED:20180423T151536Z
LAST-MODIFIED:20210311T143350Z
UID:8720-1624469400-1624471200@stlukesrenton.org
SUMMARY:Silent Meditation
DESCRIPTION:A half-hour of silent meditation begins at 5:30 pm. We gather in the sanctuary (altar area) of the church. \nTo best protect our community from the spread of COVID-19\, all church events have moved online. Please visit our online church hub at stlukesrenton.org/livestream for livestream liturgies\, Zoom classes\, prayer requests\, bulletins\, and other news.
URL:https://stlukesrenton.org/event/silent-meditation-2021-06-23/
LOCATION:St. Luke’s\, 99 Wells Ave S\, Renton\, 98057\, United States
CATEGORIES:Liturgy
ATTACH;FMTTYPE=image/jpeg:https://stlukesrenton.org/wp-content/uploads/2018/04/img_4697.jpg
ORGANIZER;CN="St. Luke's Episcopal Church":MAILTO:info@stlukesrenton.org
END:VEVENT
BEGIN:VEVENT
DTSTART;TZID=America/Los_Angeles:20210620T103000
DTEND;TZID=America/Los_Angeles:20210620T120000
DTSTAMP:20260425T140627
CREATED:20180423T152435Z
LAST-MODIFIED:20180423T152435Z
UID:8658-1624185000-1624190400@stlukesrenton.org
SUMMARY:Holy Eucharist
DESCRIPTION:We celebrate our lives in Christ\, proclaiming an authentic faith for real people. We proclaim God’s love for all through ritual\, song\, prayer\, scripture\, silence\, beauty\, and communion.
URL:https://stlukesrenton.org/event/holy-eucharist-2-2021-06-20/
LOCATION:St. Luke’s\, Main Church\, 99 Wells Ave S\, Renton\, WA\, 98057\, United States
CATEGORIES:Liturgy
ATTACH;FMTTYPE=image/jpeg:https://stlukesrenton.org/wp-content/uploads/2018/04/img_4692-1.jpg
ORGANIZER;CN="St. Luke's Episcopal Church":MAILTO:info@stlukesrenton.org
END:VEVENT
BEGIN:VEVENT
DTSTART;TZID=America/Los_Angeles:20210620T103000
DTEND;TZID=America/Los_Angeles:20210620T120000
DTSTAMP:20260425T140627
CREATED:20180423T152435Z
LAST-MODIFIED:20180423T152435Z
UID:8656-1624185000-1624190400@stlukesrenton.org
SUMMARY:Holy Eucharist
DESCRIPTION:We celebrate our lives in Christ\, proclaiming an authentic faith for real people. We proclaim God’s love for all through ritual\, song\, prayer\, scripture\, silence\, beauty\, and communion. \nTo best protect our community from the spread of COVID-19\, all church events have moved online. Please visit our online church hub at stlukesrenton.org/livestream for livestream liturgies\, Zoom classes\, prayer requests\, bulletins\, and other news.
URL:https://stlukesrenton.org/event/holy-eucharist-2-2020-04-12-2021-06-20/
LOCATION:St. Luke’s\, Main Church\, 99 Wells Ave S\, Renton\, WA\, 98057\, United States
CATEGORIES:Liturgy
ATTACH;FMTTYPE=image/jpeg:https://stlukesrenton.org/wp-content/uploads/2018/04/img_4692-1.jpg
ORGANIZER;CN="St. Luke's Episcopal Church":MAILTO:info@stlukesrenton.org
END:VEVENT
BEGIN:VEVENT
DTSTART;TZID=America/Los_Angeles:20210620T080000
DTEND;TZID=America/Los_Angeles:20210620T090000
DTSTAMP:20260425T140627
CREATED:20180423T152208Z
LAST-MODIFIED:20201229T192231Z
UID:8657-1624176000-1624179600@stlukesrenton.org
SUMMARY:Holy Eucharist
DESCRIPTION:We celebrate our lives in Christ\, proclaiming an authentic faith for real people. We proclaim God’s love for all through ritual\, song\, prayer\, scripture\, silence\, beauty\, and communion.
URL:https://stlukesrenton.org/event/holy-eucharist-2021-06-20/
LOCATION:St. Luke’s\, 99 Wells Ave S\, Renton\, 98057\, United States
CATEGORIES:Liturgy
ATTACH;FMTTYPE=image/jpeg:https://stlukesrenton.org/wp-content/uploads/2018/04/img_4700.jpg
ORGANIZER;CN="St. Luke's Episcopal Church":MAILTO:info@stlukesrenton.org
END:VEVENT
BEGIN:VEVENT
DTSTART;TZID=America/Los_Angeles:20210616T180000
DTEND;TZID=America/Los_Angeles:20210616T183000
DTSTAMP:20260425T140627
CREATED:20180423T151758Z
LAST-MODIFIED:20210311T143153Z
UID:8580-1623866400-1623868200@stlukesrenton.org
SUMMARY:Vesper Mass
DESCRIPTION:This intimate\, meditative liturgy begins with the Episcopal evening office (Evening Prayer) and continues with communion. We gather in the sanctuary (altar area) of the church for this half-hour liturgy. \nA half-hour of silent meditation begins before vesper mass at 5:30 pm.
URL:https://stlukesrenton.org/event/vesper-mass-2021-06-16/
LOCATION:St. Luke’s\, Main Church\, 99 Wells Ave S\, Renton\, WA\, 98057\, United States
CATEGORIES:Liturgy
ATTACH;FMTTYPE=image/jpeg:https://stlukesrenton.org/wp-content/uploads/2018/04/img_4692.jpg
ORGANIZER;CN="St. Luke's Episcopal Church":MAILTO:info@stlukesrenton.org
END:VEVENT
BEGIN:VEVENT
DTSTART;TZID=America/Los_Angeles:20210616T173000
DTEND;TZID=America/Los_Angeles:20210616T180000
DTSTAMP:20260425T140627
CREATED:20180423T151536Z
LAST-MODIFIED:20210311T143350Z
UID:8579-1623864600-1623866400@stlukesrenton.org
SUMMARY:Silent Meditation
DESCRIPTION:A half-hour of silent meditation begins at 5:30 pm. We gather in the sanctuary (altar area) of the church. \nTo best protect our community from the spread of COVID-19\, all church events have moved online. Please visit our online church hub at stlukesrenton.org/livestream for livestream liturgies\, Zoom classes\, prayer requests\, bulletins\, and other news.
URL:https://stlukesrenton.org/event/silent-meditation-2021-06-16/
LOCATION:St. Luke’s\, 99 Wells Ave S\, Renton\, 98057\, United States
CATEGORIES:Liturgy
ATTACH;FMTTYPE=image/jpeg:https://stlukesrenton.org/wp-content/uploads/2018/04/img_4697.jpg
ORGANIZER;CN="St. Luke's Episcopal Church":MAILTO:info@stlukesrenton.org
END:VEVENT
BEGIN:VEVENT
DTSTART;TZID=America/Los_Angeles:20210613T103000
DTEND;TZID=America/Los_Angeles:20210613T120000
DTSTAMP:20260425T140627
CREATED:20180423T152435Z
LAST-MODIFIED:20180423T152435Z
UID:8535-1623580200-1623585600@stlukesrenton.org
SUMMARY:Holy Eucharist
DESCRIPTION:We celebrate our lives in Christ\, proclaiming an authentic faith for real people. We proclaim God’s love for all through ritual\, song\, prayer\, scripture\, silence\, beauty\, and communion. \nTo best protect our community from the spread of COVID-19\, all church events have moved online. Please visit our online church hub at stlukesrenton.org/livestream for livestream liturgies\, Zoom classes\, prayer requests\, bulletins\, and other news.
URL:https://stlukesrenton.org/event/holy-eucharist-2-2020-04-12-2021-06-13/
LOCATION:St. Luke’s\, Main Church\, 99 Wells Ave S\, Renton\, WA\, 98057\, United States
CATEGORIES:Liturgy
ATTACH;FMTTYPE=image/jpeg:https://stlukesrenton.org/wp-content/uploads/2018/04/img_4692-1.jpg
ORGANIZER;CN="St. Luke's Episcopal Church":MAILTO:info@stlukesrenton.org
END:VEVENT
BEGIN:VEVENT
DTSTART;TZID=America/Los_Angeles:20210613T103000
DTEND;TZID=America/Los_Angeles:20210613T120000
DTSTAMP:20260425T140627
CREATED:20180423T152435Z
LAST-MODIFIED:20180423T152435Z
UID:8537-1623580200-1623585600@stlukesrenton.org
SUMMARY:Holy Eucharist
DESCRIPTION:We celebrate our lives in Christ\, proclaiming an authentic faith for real people. We proclaim God’s love for all through ritual\, song\, prayer\, scripture\, silence\, beauty\, and communion.
URL:https://stlukesrenton.org/event/holy-eucharist-2-2021-06-13/
LOCATION:St. Luke’s\, Main Church\, 99 Wells Ave S\, Renton\, WA\, 98057\, United States
CATEGORIES:Liturgy
ATTACH;FMTTYPE=image/jpeg:https://stlukesrenton.org/wp-content/uploads/2018/04/img_4692-1.jpg
ORGANIZER;CN="St. Luke's Episcopal Church":MAILTO:info@stlukesrenton.org
END:VEVENT
BEGIN:VEVENT
DTSTART;TZID=America/Los_Angeles:20210613T080000
DTEND;TZID=America/Los_Angeles:20210613T090000
DTSTAMP:20260425T140627
CREATED:20180423T152208Z
LAST-MODIFIED:20201229T192231Z
UID:8536-1623571200-1623574800@stlukesrenton.org
SUMMARY:Holy Eucharist
DESCRIPTION:We celebrate our lives in Christ\, proclaiming an authentic faith for real people. We proclaim God’s love for all through ritual\, song\, prayer\, scripture\, silence\, beauty\, and communion.
URL:https://stlukesrenton.org/event/holy-eucharist-2021-06-13/
LOCATION:St. Luke’s\, 99 Wells Ave S\, Renton\, 98057\, United States
CATEGORIES:Liturgy
ATTACH;FMTTYPE=image/jpeg:https://stlukesrenton.org/wp-content/uploads/2018/04/img_4700.jpg
ORGANIZER;CN="St. Luke's Episcopal Church":MAILTO:info@stlukesrenton.org
END:VEVENT
END:VCALENDAR