BEGIN:VCALENDAR
VERSION:2.0
PRODID:-//St. Luke&#039;s Episcopal Church - ECPv6.15.20//NONSGML v1.0//EN
CALSCALE:GREGORIAN
METHOD:PUBLISH
X-ORIGINAL-URL:https://stlukesrenton.org
X-WR-CALDESC:Events for St. Luke&#039;s Episcopal Church
REFRESH-INTERVAL;VALUE=DURATION:PT1H
X-Robots-Tag:noindex
X-PUBLISHED-TTL:PT1H
BEGIN:VTIMEZONE
TZID:America/Los_Angeles
BEGIN:DAYLIGHT
TZOFFSETFROM:-0800
TZOFFSETTO:-0700
TZNAME:PDT
DTSTART:20190310T100000
END:DAYLIGHT
BEGIN:STANDARD
TZOFFSETFROM:-0700
TZOFFSETTO:-0800
TZNAME:PST
DTSTART:20191103T090000
END:STANDARD
BEGIN:DAYLIGHT
TZOFFSETFROM:-0800
TZOFFSETTO:-0700
TZNAME:PDT
DTSTART:20200308T100000
END:DAYLIGHT
BEGIN:STANDARD
TZOFFSETFROM:-0700
TZOFFSETTO:-0800
TZNAME:PST
DTSTART:20201101T090000
END:STANDARD
BEGIN:DAYLIGHT
TZOFFSETFROM:-0800
TZOFFSETTO:-0700
TZNAME:PDT
DTSTART:20210314T100000
END:DAYLIGHT
BEGIN:STANDARD
TZOFFSETFROM:-0700
TZOFFSETTO:-0800
TZNAME:PST
DTSTART:20211107T090000
END:STANDARD
BEGIN:DAYLIGHT
TZOFFSETFROM:-0800
TZOFFSETTO:-0700
TZNAME:PDT
DTSTART:20220313T100000
END:DAYLIGHT
BEGIN:STANDARD
TZOFFSETFROM:-0700
TZOFFSETTO:-0800
TZNAME:PST
DTSTART:20221106T090000
END:STANDARD
END:VTIMEZONE
BEGIN:VEVENT
DTSTART;TZID=America/Los_Angeles:20210328T130000
DTEND;TZID=America/Los_Angeles:20210328T140000
DTSTAMP:20260425T210359
CREATED:20200407T144817Z
LAST-MODIFIED:20210325T194302Z
UID:7334-1616936400-1616940000@stlukesrenton.org
SUMMARY:Misa Guadalupe
DESCRIPTION:St. Luke’s Spanish-language liturgy. \nPara proteger mejor a nuestra comunidad de la propagación de COVID-19\, todos los eventos de la iglesia se han trasladado en línea. Visite nuestro centro de la iglesia en línea en stlukesrenton.org/livestream para ver liturgias en vivo\, clases de Zoom\, solicitudes de oración\, boletines y otras noticias.
URL:https://stlukesrenton.org/event/misa-guadalupe-2021-03-28/
LOCATION:St. Luke’s\, 99 Wells Ave S\, Renton\, 98057\, United States
CATEGORIES:Liturgy
ATTACH;FMTTYPE=image/jpeg:https://stlukesrenton.org/wp-content/uploads/2020/04/img_4690-copy.jpg
ORGANIZER;CN="St. Luke's Episcopal Church":MAILTO:info@stlukesrenton.org
END:VEVENT
BEGIN:VEVENT
DTSTART;TZID=America/Los_Angeles:20210328T103000
DTEND;TZID=America/Los_Angeles:20210328T120000
DTSTAMP:20260425T210359
CREATED:20180423T152435Z
LAST-MODIFIED:20200407T150730Z
UID:6528-1616927400-1616932800@stlukesrenton.org
SUMMARY:Holy Eucharist
DESCRIPTION:We celebrate our lives in Christ\, proclaiming an authentic faith for real people. We proclaim God’s love for all through ritual\, song\, prayer\, scripture\, silence\, beauty\, and communion. \nTo best protect our community from the spread of COVID-19\, all church events have moved online. Please visit our online church hub at stlukesrenton.org/livestream for livestream liturgies\, Zoom classes\, prayer requests\, bulletins\, and other news.
URL:https://stlukesrenton.org/event/holy-eucharist-2-2020-04-12-2021-03-28/
LOCATION:St. Luke’s\, Main Church\, 99 Wells Ave S\, Renton\, WA\, 98057\, United States
CATEGORIES:Liturgy
ATTACH;FMTTYPE=image/jpeg:https://stlukesrenton.org/wp-content/uploads/2018/04/img_4692-1.jpg
ORGANIZER;CN="St. Luke's Episcopal Church":MAILTO:info@stlukesrenton.org
END:VEVENT
BEGIN:VEVENT
DTSTART;TZID=America/Los_Angeles:20210328T080000
DTEND;TZID=America/Los_Angeles:20210328T090000
DTSTAMP:20260425T210359
CREATED:20180423T152208Z
LAST-MODIFIED:20201229T192220Z
UID:6527-1616918400-1616922000@stlukesrenton.org
SUMMARY:Holy Eucharist
DESCRIPTION:We celebrate our lives in Christ\, proclaiming an authentic faith for real people. We proclaim God’s love for all through ritual\, song\, prayer\, scripture\, silence\, beauty\, and communion.
URL:https://stlukesrenton.org/event/holy-eucharist-2021-03-28/
LOCATION:St. Luke’s\, 99 Wells Ave S\, Renton\, 98057\, United States
CATEGORIES:Liturgy
ATTACH;FMTTYPE=image/jpeg:https://stlukesrenton.org/wp-content/uploads/2018/04/img_4700.jpg
ORGANIZER;CN="St. Luke's Episcopal Church":MAILTO:info@stlukesrenton.org
END:VEVENT
BEGIN:VEVENT
DTSTART;TZID=America/Los_Angeles:20210321T130000
DTEND;TZID=America/Los_Angeles:20210321T140000
DTSTAMP:20260425T210359
CREATED:20200407T144817Z
LAST-MODIFIED:20210325T194256Z
UID:7333-1616331600-1616335200@stlukesrenton.org
SUMMARY:Misa Guadalupe
DESCRIPTION:St. Luke’s Spanish-language liturgy. \nPara proteger mejor a nuestra comunidad de la propagación de COVID-19\, todos los eventos de la iglesia se han trasladado en línea. Visite nuestro centro de la iglesia en línea en stlukesrenton.org/livestream para ver liturgias en vivo\, clases de Zoom\, solicitudes de oración\, boletines y otras noticias.
URL:https://stlukesrenton.org/event/misa-guadalupe-2021-03-21/
LOCATION:St. Luke’s\, 99 Wells Ave S\, Renton\, 98057\, United States
CATEGORIES:Liturgy
ATTACH;FMTTYPE=image/jpeg:https://stlukesrenton.org/wp-content/uploads/2020/04/img_4690-copy.jpg
ORGANIZER;CN="St. Luke's Episcopal Church":MAILTO:info@stlukesrenton.org
END:VEVENT
BEGIN:VEVENT
DTSTART;TZID=America/Los_Angeles:20210321T103000
DTEND;TZID=America/Los_Angeles:20210321T120000
DTSTAMP:20260425T210359
CREATED:20180423T152435Z
LAST-MODIFIED:20200407T150730Z
UID:6467-1616322600-1616328000@stlukesrenton.org
SUMMARY:Holy Eucharist
DESCRIPTION:We celebrate our lives in Christ\, proclaiming an authentic faith for real people. We proclaim God’s love for all through ritual\, song\, prayer\, scripture\, silence\, beauty\, and communion. \nTo best protect our community from the spread of COVID-19\, all church events have moved online. Please visit our online church hub at stlukesrenton.org/livestream for livestream liturgies\, Zoom classes\, prayer requests\, bulletins\, and other news.
URL:https://stlukesrenton.org/event/holy-eucharist-2-2020-04-12-2021-03-21/
LOCATION:St. Luke’s\, Main Church\, 99 Wells Ave S\, Renton\, WA\, 98057\, United States
CATEGORIES:Liturgy
ATTACH;FMTTYPE=image/jpeg:https://stlukesrenton.org/wp-content/uploads/2018/04/img_4692-1.jpg
ORGANIZER;CN="St. Luke's Episcopal Church":MAILTO:info@stlukesrenton.org
END:VEVENT
BEGIN:VEVENT
DTSTART;TZID=America/Los_Angeles:20210321T080000
DTEND;TZID=America/Los_Angeles:20210321T090000
DTSTAMP:20260425T210359
CREATED:20180423T152208Z
LAST-MODIFIED:20201229T192219Z
UID:6466-1616313600-1616317200@stlukesrenton.org
SUMMARY:Holy Eucharist
DESCRIPTION:We celebrate our lives in Christ\, proclaiming an authentic faith for real people. We proclaim God’s love for all through ritual\, song\, prayer\, scripture\, silence\, beauty\, and communion.
URL:https://stlukesrenton.org/event/holy-eucharist-2021-03-21/
LOCATION:St. Luke’s\, 99 Wells Ave S\, Renton\, 98057\, United States
CATEGORIES:Liturgy
ATTACH;FMTTYPE=image/jpeg:https://stlukesrenton.org/wp-content/uploads/2018/04/img_4700.jpg
ORGANIZER;CN="St. Luke's Episcopal Church":MAILTO:info@stlukesrenton.org
END:VEVENT
BEGIN:VEVENT
DTSTART;TZID=America/Los_Angeles:20210314T130000
DTEND;TZID=America/Los_Angeles:20210314T140000
DTSTAMP:20260425T210359
CREATED:20200407T144817Z
LAST-MODIFIED:20210325T194252Z
UID:7332-1615726800-1615730400@stlukesrenton.org
SUMMARY:Misa Guadalupe
DESCRIPTION:St. Luke’s Spanish-language liturgy. \nPara proteger mejor a nuestra comunidad de la propagación de COVID-19\, todos los eventos de la iglesia se han trasladado en línea. Visite nuestro centro de la iglesia en línea en stlukesrenton.org/livestream para ver liturgias en vivo\, clases de Zoom\, solicitudes de oración\, boletines y otras noticias.
URL:https://stlukesrenton.org/event/misa-guadalupe-2021-03-14/
LOCATION:St. Luke’s\, 99 Wells Ave S\, Renton\, 98057\, United States
CATEGORIES:Liturgy
ATTACH;FMTTYPE=image/jpeg:https://stlukesrenton.org/wp-content/uploads/2020/04/img_4690-copy.jpg
ORGANIZER;CN="St. Luke's Episcopal Church":MAILTO:info@stlukesrenton.org
END:VEVENT
BEGIN:VEVENT
DTSTART;TZID=America/Los_Angeles:20210314T103000
DTEND;TZID=America/Los_Angeles:20210314T120000
DTSTAMP:20260425T210359
CREATED:20180423T152435Z
LAST-MODIFIED:20200407T150730Z
UID:6449-1615717800-1615723200@stlukesrenton.org
SUMMARY:Holy Eucharist
DESCRIPTION:We celebrate our lives in Christ\, proclaiming an authentic faith for real people. We proclaim God’s love for all through ritual\, song\, prayer\, scripture\, silence\, beauty\, and communion. \nTo best protect our community from the spread of COVID-19\, all church events have moved online. Please visit our online church hub at stlukesrenton.org/livestream for livestream liturgies\, Zoom classes\, prayer requests\, bulletins\, and other news.
URL:https://stlukesrenton.org/event/holy-eucharist-2-2020-04-12-2021-03-14/
LOCATION:St. Luke’s\, Main Church\, 99 Wells Ave S\, Renton\, WA\, 98057\, United States
CATEGORIES:Liturgy
ATTACH;FMTTYPE=image/jpeg:https://stlukesrenton.org/wp-content/uploads/2018/04/img_4692-1.jpg
ORGANIZER;CN="St. Luke's Episcopal Church":MAILTO:info@stlukesrenton.org
END:VEVENT
BEGIN:VEVENT
DTSTART;TZID=America/Los_Angeles:20210314T080000
DTEND;TZID=America/Los_Angeles:20210314T090000
DTSTAMP:20260425T210359
CREATED:20180423T152208Z
LAST-MODIFIED:20201027T150733Z
UID:6448-1615708800-1615712400@stlukesrenton.org
SUMMARY:Holy Eucharist
DESCRIPTION:We celebrate our lives in Christ\, proclaiming an authentic faith for real people. We proclaim God’s love for all through ritual\, song\, prayer\, scripture\, silence\, beauty\, and communion.
URL:https://stlukesrenton.org/event/holy-eucharist-2021-03-14/
LOCATION:St. Luke’s\, 99 Wells Ave S\, Renton\, 98057\, United States
CATEGORIES:Liturgy
ATTACH;FMTTYPE=image/jpeg:https://stlukesrenton.org/wp-content/uploads/2018/04/img_4700.jpg
ORGANIZER;CN="St. Luke's Episcopal Church":MAILTO:info@stlukesrenton.org
END:VEVENT
BEGIN:VEVENT
DTSTART;TZID=America/Los_Angeles:20210307T130000
DTEND;TZID=America/Los_Angeles:20210307T140000
DTSTAMP:20260425T210359
CREATED:20200407T144817Z
LAST-MODIFIED:20210325T194250Z
UID:7331-1615122000-1615125600@stlukesrenton.org
SUMMARY:Misa Guadalupe
DESCRIPTION:St. Luke’s Spanish-language liturgy. \nPara proteger mejor a nuestra comunidad de la propagación de COVID-19\, todos los eventos de la iglesia se han trasladado en línea. Visite nuestro centro de la iglesia en línea en stlukesrenton.org/livestream para ver liturgias en vivo\, clases de Zoom\, solicitudes de oración\, boletines y otras noticias.
URL:https://stlukesrenton.org/event/misa-guadalupe-2021-03-07/
LOCATION:St. Luke’s\, 99 Wells Ave S\, Renton\, 98057\, United States
CATEGORIES:Liturgy
ATTACH;FMTTYPE=image/jpeg:https://stlukesrenton.org/wp-content/uploads/2020/04/img_4690-copy.jpg
ORGANIZER;CN="St. Luke's Episcopal Church":MAILTO:info@stlukesrenton.org
END:VEVENT
BEGIN:VEVENT
DTSTART;TZID=America/Los_Angeles:20210307T103000
DTEND;TZID=America/Los_Angeles:20210307T120000
DTSTAMP:20260425T210359
CREATED:20180423T152435Z
LAST-MODIFIED:20200407T150730Z
UID:6425-1615113000-1615118400@stlukesrenton.org
SUMMARY:Holy Eucharist
DESCRIPTION:We celebrate our lives in Christ\, proclaiming an authentic faith for real people. We proclaim God’s love for all through ritual\, song\, prayer\, scripture\, silence\, beauty\, and communion. \nTo best protect our community from the spread of COVID-19\, all church events have moved online. Please visit our online church hub at stlukesrenton.org/livestream for livestream liturgies\, Zoom classes\, prayer requests\, bulletins\, and other news.
URL:https://stlukesrenton.org/event/holy-eucharist-2-2020-04-12-2021-03-07/
LOCATION:St. Luke’s\, Main Church\, 99 Wells Ave S\, Renton\, WA\, 98057\, United States
CATEGORIES:Liturgy
ATTACH;FMTTYPE=image/jpeg:https://stlukesrenton.org/wp-content/uploads/2018/04/img_4692-1.jpg
ORGANIZER;CN="St. Luke's Episcopal Church":MAILTO:info@stlukesrenton.org
END:VEVENT
BEGIN:VEVENT
DTSTART;TZID=America/Los_Angeles:20210307T080000
DTEND;TZID=America/Los_Angeles:20210307T090000
DTSTAMP:20260425T210359
CREATED:20180423T152208Z
LAST-MODIFIED:20201027T150732Z
UID:6424-1615104000-1615107600@stlukesrenton.org
SUMMARY:Holy Eucharist
DESCRIPTION:We celebrate our lives in Christ\, proclaiming an authentic faith for real people. We proclaim God’s love for all through ritual\, song\, prayer\, scripture\, silence\, beauty\, and communion.
URL:https://stlukesrenton.org/event/holy-eucharist-2021-03-07/
LOCATION:St. Luke’s\, 99 Wells Ave S\, Renton\, 98057\, United States
CATEGORIES:Liturgy
ATTACH;FMTTYPE=image/jpeg:https://stlukesrenton.org/wp-content/uploads/2018/04/img_4700.jpg
ORGANIZER;CN="St. Luke's Episcopal Church":MAILTO:info@stlukesrenton.org
END:VEVENT
BEGIN:VEVENT
DTSTART;TZID=America/Los_Angeles:20210228T130000
DTEND;TZID=America/Los_Angeles:20210228T140000
DTSTAMP:20260425T210359
CREATED:20200407T144817Z
LAST-MODIFIED:20210325T194247Z
UID:7330-1614517200-1614520800@stlukesrenton.org
SUMMARY:Misa Guadalupe
DESCRIPTION:St. Luke’s Spanish-language liturgy. \nPara proteger mejor a nuestra comunidad de la propagación de COVID-19\, todos los eventos de la iglesia se han trasladado en línea. Visite nuestro centro de la iglesia en línea en stlukesrenton.org/livestream para ver liturgias en vivo\, clases de Zoom\, solicitudes de oración\, boletines y otras noticias.
URL:https://stlukesrenton.org/event/misa-guadalupe-2021-02-28/
LOCATION:St. Luke’s\, 99 Wells Ave S\, Renton\, 98057\, United States
CATEGORIES:Liturgy
ATTACH;FMTTYPE=image/jpeg:https://stlukesrenton.org/wp-content/uploads/2020/04/img_4690-copy.jpg
ORGANIZER;CN="St. Luke's Episcopal Church":MAILTO:info@stlukesrenton.org
END:VEVENT
BEGIN:VEVENT
DTSTART;TZID=America/Los_Angeles:20210228T103000
DTEND;TZID=America/Los_Angeles:20210228T120000
DTSTAMP:20260425T210359
CREATED:20180423T152435Z
LAST-MODIFIED:20200407T150729Z
UID:6405-1614508200-1614513600@stlukesrenton.org
SUMMARY:Holy Eucharist
DESCRIPTION:We celebrate our lives in Christ\, proclaiming an authentic faith for real people. We proclaim God’s love for all through ritual\, song\, prayer\, scripture\, silence\, beauty\, and communion. \nTo best protect our community from the spread of COVID-19\, all church events have moved online. Please visit our online church hub at stlukesrenton.org/livestream for livestream liturgies\, Zoom classes\, prayer requests\, bulletins\, and other news.
URL:https://stlukesrenton.org/event/holy-eucharist-2-2020-04-12-2021-02-28/
LOCATION:St. Luke’s\, Main Church\, 99 Wells Ave S\, Renton\, WA\, 98057\, United States
CATEGORIES:Liturgy
ATTACH;FMTTYPE=image/jpeg:https://stlukesrenton.org/wp-content/uploads/2018/04/img_4692-1.jpg
ORGANIZER;CN="St. Luke's Episcopal Church":MAILTO:info@stlukesrenton.org
END:VEVENT
BEGIN:VEVENT
DTSTART;TZID=America/Los_Angeles:20210228T080000
DTEND;TZID=America/Los_Angeles:20210228T090000
DTSTAMP:20260425T210359
CREATED:20180423T152208Z
LAST-MODIFIED:20201027T150729Z
UID:6404-1614499200-1614502800@stlukesrenton.org
SUMMARY:Holy Eucharist
DESCRIPTION:We celebrate our lives in Christ\, proclaiming an authentic faith for real people. We proclaim God’s love for all through ritual\, song\, prayer\, scripture\, silence\, beauty\, and communion.
URL:https://stlukesrenton.org/event/holy-eucharist-2021-02-28/
LOCATION:St. Luke’s\, 99 Wells Ave S\, Renton\, 98057\, United States
CATEGORIES:Liturgy
ATTACH;FMTTYPE=image/jpeg:https://stlukesrenton.org/wp-content/uploads/2018/04/img_4700.jpg
ORGANIZER;CN="St. Luke's Episcopal Church":MAILTO:info@stlukesrenton.org
END:VEVENT
BEGIN:VEVENT
DTSTART;TZID=America/Los_Angeles:20210221T130000
DTEND;TZID=America/Los_Angeles:20210221T140000
DTSTAMP:20260425T210359
CREATED:20200407T144817Z
LAST-MODIFIED:20210325T194245Z
UID:7329-1613912400-1613916000@stlukesrenton.org
SUMMARY:Misa Guadalupe
DESCRIPTION:St. Luke’s Spanish-language liturgy. \nPara proteger mejor a nuestra comunidad de la propagación de COVID-19\, todos los eventos de la iglesia se han trasladado en línea. Visite nuestro centro de la iglesia en línea en stlukesrenton.org/livestream para ver liturgias en vivo\, clases de Zoom\, solicitudes de oración\, boletines y otras noticias.
URL:https://stlukesrenton.org/event/misa-guadalupe-2021-02-21/
LOCATION:St. Luke’s\, 99 Wells Ave S\, Renton\, 98057\, United States
CATEGORIES:Liturgy
ATTACH;FMTTYPE=image/jpeg:https://stlukesrenton.org/wp-content/uploads/2020/04/img_4690-copy.jpg
ORGANIZER;CN="St. Luke's Episcopal Church":MAILTO:info@stlukesrenton.org
END:VEVENT
BEGIN:VEVENT
DTSTART;TZID=America/Los_Angeles:20210221T103000
DTEND;TZID=America/Los_Angeles:20210221T120000
DTSTAMP:20260425T210359
CREATED:20180423T152435Z
LAST-MODIFIED:20200407T150729Z
UID:6376-1613903400-1613908800@stlukesrenton.org
SUMMARY:Holy Eucharist
DESCRIPTION:We celebrate our lives in Christ\, proclaiming an authentic faith for real people. We proclaim God’s love for all through ritual\, song\, prayer\, scripture\, silence\, beauty\, and communion. \nTo best protect our community from the spread of COVID-19\, all church events have moved online. Please visit our online church hub at stlukesrenton.org/livestream for livestream liturgies\, Zoom classes\, prayer requests\, bulletins\, and other news.
URL:https://stlukesrenton.org/event/holy-eucharist-2-2020-04-12-2021-02-21/
LOCATION:St. Luke’s\, Main Church\, 99 Wells Ave S\, Renton\, WA\, 98057\, United States
CATEGORIES:Liturgy
ATTACH;FMTTYPE=image/jpeg:https://stlukesrenton.org/wp-content/uploads/2018/04/img_4692-1.jpg
ORGANIZER;CN="St. Luke's Episcopal Church":MAILTO:info@stlukesrenton.org
END:VEVENT
BEGIN:VEVENT
DTSTART;TZID=America/Los_Angeles:20210221T080000
DTEND;TZID=America/Los_Angeles:20210221T090000
DTSTAMP:20260425T210359
CREATED:20180423T152208Z
LAST-MODIFIED:20201027T150726Z
UID:6375-1613894400-1613898000@stlukesrenton.org
SUMMARY:Holy Eucharist
DESCRIPTION:We celebrate our lives in Christ\, proclaiming an authentic faith for real people. We proclaim God’s love for all through ritual\, song\, prayer\, scripture\, silence\, beauty\, and communion.
URL:https://stlukesrenton.org/event/holy-eucharist-2021-02-21/
LOCATION:St. Luke’s\, 99 Wells Ave S\, Renton\, 98057\, United States
CATEGORIES:Liturgy
ATTACH;FMTTYPE=image/jpeg:https://stlukesrenton.org/wp-content/uploads/2018/04/img_4700.jpg
ORGANIZER;CN="St. Luke's Episcopal Church":MAILTO:info@stlukesrenton.org
END:VEVENT
BEGIN:VEVENT
DTSTART;TZID=America/Los_Angeles:20210217T190000
DTEND;TZID=America/Los_Angeles:20210217T193000
DTSTAMP:20260425T210359
CREATED:20210216T192354Z
LAST-MODIFIED:20210216T192359Z
UID:11981-1613588400-1613590200@stlukesrenton.org
SUMMARY:Ash Wednesday
DESCRIPTION:Streaming at stlukesrenton.org/livestream
URL:https://stlukesrenton.org/event/ash-wednesday-2/
LOCATION:St. Luke’s\, 99 Wells Ave S\, Renton\, 98057\, United States
CATEGORIES:Holiday,Liturgy
ATTACH;FMTTYPE=image/png:https://stlukesrenton.org/wp-content/uploads/2021/02/ash-wed-copy.png
ORGANIZER;CN="St. Luke's Episcopal Church":MAILTO:info@stlukesrenton.org
END:VEVENT
BEGIN:VEVENT
DTSTART;TZID=America/Los_Angeles:20201224T190000
DTEND;TZID=America/Los_Angeles:20201224T200000
DTSTAMP:20260425T210359
CREATED:20201210T173602Z
LAST-MODIFIED:20201210T173602Z
UID:11102-1608836400-1608840000@stlukesrenton.org
SUMMARY:Christmas Eve Liturgy
DESCRIPTION:We will hold a Christmas Eve liturgy with Eucharist at stlukesrenton.org/livestream at 7:00 p.m. on December 24. \nIf you would prefer to attend later in the evening or on Christmas Day\, a recording will be available on the livestream page for you to watch at your convenience. \nThere will not be a coffee hour after the liturgy.
URL:https://stlukesrenton.org/event/christmas-eve-liturgy-2020/
LOCATION:St. Luke’s\, 99 Wells Ave S\, Renton\, 98057\, United States
CATEGORIES:Holiday,Liturgy
ATTACH;FMTTYPE=image/jpeg:https://stlukesrenton.org/wp-content/uploads/2020/12/web-insta.jpg
ORGANIZER;CN="St. Luke's Episcopal Church":MAILTO:info@stlukesrenton.org
END:VEVENT
BEGIN:VEVENT
DTSTART;TZID=America/Los_Angeles:20201221T160000
DTEND;TZID=America/Los_Angeles:20201221T170000
DTSTAMP:20260425T210359
CREATED:20201027T150435Z
LAST-MODIFIED:20201027T151655Z
UID:10551-1608566400-1608570000@stlukesrenton.org
SUMMARY:Yule: Light for the Darkest Night
DESCRIPTION:Celebrate the winter solstice with a new type of church service. Through poetry\, song\, and meditation\, we’ll share a mystic experience of the divine. All are welcome here.​ ​ \nStreaming at stlukesrenton.org/yule. Yule is a collaboration between St. Luke’s in Renton\, WA and St. Andrew’s in New London\, NH.
URL:https://stlukesrenton.org/event/yule-light-for-the-darkest-night/
LOCATION:St. Luke’s\, 99 Wells Ave S\, Renton\, 98057\, United States
CATEGORIES:Liturgy,Seasonal Liturgy
ATTACH;FMTTYPE=image/png:https://stlukesrenton.org/wp-content/uploads/2020/10/cover-copy.png
ORGANIZER;CN="St. Luke's Episcopal Church":MAILTO:info@stlukesrenton.org
END:VEVENT
BEGIN:VEVENT
DTSTART;VALUE=DATE:20201101
DTEND;VALUE=DATE:20201102
DTSTAMP:20260425T210359
CREATED:20201015T150745Z
LAST-MODIFIED:20201015T150749Z
UID:10492-1604188800-1604275199@stlukesrenton.org
SUMMARY:Feast of All Saints
DESCRIPTION:Our annual in-gathering and celebration of pledged gifts—you’ll want to be in that number!
URL:https://stlukesrenton.org/event/feast-of-all-saints/
LOCATION:St. Luke’s\, 99 Wells Ave S\, Renton\, 98057\, United States
CATEGORIES:Holiday,Liturgy
ATTACH;FMTTYPE=image/jpeg:https://stlukesrenton.org/wp-content/uploads/2020/10/Feast-of-All-Saints.jpg
ORGANIZER;CN="St. Luke's Episcopal Church":MAILTO:info@stlukesrenton.org
END:VEVENT
BEGIN:VEVENT
DTSTART;VALUE=DATE:20201025
DTEND;VALUE=DATE:20201026
DTSTAMP:20260425T210359
CREATED:20201007T170834Z
LAST-MODIFIED:20201013T154051Z
UID:10450-1603584000-1603670399@stlukesrenton.org
SUMMARY:Feast of St. Luke and Bishop's Visitation
DESCRIPTION:Bishop Rickel will visit St. Luke’s as part of his regular schedule of parish visitations. We will also celebrate the Feast of St. Luke this Sunday.
URL:https://stlukesrenton.org/event/feast-of-st-luke/
LOCATION:St. Luke’s\, 99 Wells Ave S\, Renton\, 98057\, United States
CATEGORIES:Holiday,Liturgy
ATTACH;FMTTYPE=image/jpeg:https://stlukesrenton.org/wp-content/uploads/2020/03/bishop-greg-sermon_22.jpg
ORGANIZER;CN="St. Luke's Episcopal Church":MAILTO:info@stlukesrenton.org
END:VEVENT
BEGIN:VEVENT
DTSTART;TZID=America/Los_Angeles:20200922T190000
DTEND;TZID=America/Los_Angeles:20200922T200000
DTSTAMP:20260425T210359
CREATED:20200818T194952Z
LAST-MODIFIED:20200818T194952Z
UID:9703-1600801200-1600804800@stlukesrenton.org
SUMMARY:Re:Turn
DESCRIPTION:Celebrate the autumn equinox at Re:Turn\, St. Luke’s innovative online liturgy—complete with a live chat\, digital interaction\, and Zoom afterparty. These seasonal liturgies began in 2016. Every solstice and equinox\, St. Luke’s blends poetry\, music\, and nature into a mystical experience of the divine. Let’s acknowledge the beauty of the natural world and the interweave of the seasons with our own spiritual lives. \nAll are invited to learn more and participate at stlukesrenton.org/return
URL:https://stlukesrenton.org/event/return/
LOCATION:St. Luke’s\, 99 Wells Ave S\, Renton\, 98057\, United States
CATEGORIES:Liturgy,Seasonal Liturgy
ATTACH;FMTTYPE=image/png:https://stlukesrenton.org/wp-content/uploads/2020/08/re-turn.thumbnail.png
ORGANIZER;CN="St. Luke's Episcopal Church":MAILTO:info@stlukesrenton.org
END:VEVENT
BEGIN:VEVENT
DTSTART;VALUE=DATE:20200612
DTEND;VALUE=DATE:20200613
DTSTAMP:20260425T210359
CREATED:20200121T234903Z
LAST-MODIFIED:20200121T234903Z
UID:6373-1591920000-1592006399@stlukesrenton.org
SUMMARY:Memorial Service for Hazel DuBois
DESCRIPTION:
URL:https://stlukesrenton.org/event/memorial-service-for-hazel-dubois/
LOCATION:St. Luke’s\, 99 Wells Ave S\, Renton\, 98057\, United States
CATEGORIES:Liturgy
ORGANIZER;CN="St. Luke's Episcopal Church":MAILTO:info@stlukesrenton.org
END:VEVENT
BEGIN:VEVENT
DTSTART;TZID=America/Los_Angeles:20200607T103000
DTEND;TZID=America/Los_Angeles:20200607T130000
DTSTAMP:20260425T210359
CREATED:20200602T143155Z
LAST-MODIFIED:20200603T192126Z
UID:8784-1591525800-1591534800@stlukesrenton.org
SUMMARY:One Diocese\, One Church
DESCRIPTION:On June 7\, the Office of the Bishop in the Diocese of Olympia will hold one worship service for our entire diocese. St. Luke’s will not hold our usual services this Sunday. You may watch this diocesan-wide liturgy via the link to our usual livestream page: stlukesrenton.org/livestream.
URL:https://stlukesrenton.org/event/one-diocese-one-church/
LOCATION:St. Luke’s\, 99 Wells Ave S\, Renton\, 98057\, United States
CATEGORIES:Liturgy
ATTACH;FMTTYPE=image/jpeg:https://stlukesrenton.org/wp-content/uploads/2020/06/20200607-One-Service.jpg
ORGANIZER;CN="St. Luke's Episcopal Church":MAILTO:info@stlukesrenton.org
END:VEVENT
BEGIN:VEVENT
DTSTART;TZID=America/Los_Angeles:20200419T103000
DTEND;TZID=America/Los_Angeles:20200419T120000
DTSTAMP:20260425T210359
CREATED:20180423T152435Z
LAST-MODIFIED:20200415T133142Z
UID:5078-1587292200-1587297600@stlukesrenton.org
SUMMARY:Livestream Liturgy
DESCRIPTION:To best protect our community from the spread of COVID-19\, all church events have moved online. Please visit our online church hub at stlukesrenton.org/livestream for livestream liturgies\, Zoom classes\, prayer requests\, bulletins\, and other news.
URL:https://stlukesrenton.org/event/holy-eucharist-2-2020-04-12-2020-04-19/
LOCATION:St. Luke’s\, Main Church\, 99 Wells Ave S\, Renton\, WA\, 98057\, United States
CATEGORIES:Liturgy
ATTACH;FMTTYPE=image/jpeg:https://stlukesrenton.org/wp-content/uploads/2020/03/promo-photo-1-scaled.jpg
ORGANIZER;CN="St. Luke's Episcopal Church":MAILTO:info@stlukesrenton.org
END:VEVENT
BEGIN:VEVENT
DTSTART;TZID=America/Los_Angeles:20200412T103000
DTEND;TZID=America/Los_Angeles:20200412T120000
DTSTAMP:20260425T210359
CREATED:20180423T152435Z
LAST-MODIFIED:20200407T144551Z
UID:5053-1586687400-1586692800@stlukesrenton.org
SUMMARY:Holy Eucharist
DESCRIPTION:We celebrate our lives in Christ\, proclaiming an authentic faith for real people. We proclaim God’s love for all through ritual\, song\, prayer\, scripture\, silence\, beauty\, and communion. \nTo best protect our community from the spread of COVID-19\, all church events have moved online. Please visit our online church hub at stlukesrenton.org/livestream for livestream liturgies\, Zoom classes\, prayer requests\, bulletins\, and other news.
URL:https://stlukesrenton.org/event/holy-eucharist-2-2020-04-12/
LOCATION:St. Luke’s\, Main Church\, 99 Wells Ave S\, Renton\, WA\, 98057\, United States
CATEGORIES:Liturgy
ATTACH;FMTTYPE=image/jpeg:https://stlukesrenton.org/wp-content/uploads/2018/04/img_4692-1.jpg
ORGANIZER;CN="St. Luke's Episcopal Church":MAILTO:info@stlukesrenton.org
END:VEVENT
BEGIN:VEVENT
DTSTART;VALUE=DATE:20200412
DTEND;VALUE=DATE:20200413
DTSTAMP:20260425T210359
CREATED:20200305T015521Z
LAST-MODIFIED:20200407T140135Z
UID:6553-1586649600-1586735999@stlukesrenton.org
SUMMARY:Easter Sunday
DESCRIPTION:We will participate in the Triduum liturgies of Maundy Thursday\, Good Friday\, and Holy Saturday alongside our diocesan community at saintmarks.org/live-stream \nWe will livestream St. Luke’s own Easter liturgy at 10:30 a.m. (English) and 1:00 p.m. (Español) at stlukesrenton.org/livestream.
URL:https://stlukesrenton.org/event/easter-sunday/
LOCATION:St. Luke’s\, 99 Wells Ave S\, Renton\, 98057\, United States
CATEGORIES:Holiday,Liturgy
ATTACH;FMTTYPE=image/jpeg:https://stlukesrenton.org/wp-content/uploads/2020/03/holy-week-web-scaled.jpg
ORGANIZER;CN="St. Luke's Episcopal Church":MAILTO:info@stlukesrenton.org
END:VEVENT
BEGIN:VEVENT
DTSTART;TZID=America/Los_Angeles:20200411T200000
DTEND;TZID=America/Los_Angeles:20200411T200000
DTSTAMP:20260425T210359
CREATED:20200305T015752Z
LAST-MODIFIED:20200407T141448Z
UID:6559-1586635200-1586635200@stlukesrenton.org
SUMMARY:Easter Vigil
DESCRIPTION:
URL:https://stlukesrenton.org/event/easter-vigil-2020/
LOCATION:St. Luke’s\, 99 Wells Ave S\, Renton\, 98057\, United States
CATEGORIES:Holiday,Liturgy
ATTACH;FMTTYPE=image/jpeg:https://stlukesrenton.org/wp-content/uploads/2020/03/holy-week-web-scaled.jpg
ORGANIZER;CN="St. Luke's Episcopal Church":MAILTO:info@stlukesrenton.org
END:VEVENT
END:VCALENDAR