BEGIN:VCALENDAR
VERSION:2.0
PRODID:-//St. Luke&#039;s Episcopal Church - ECPv6.15.20//NONSGML v1.0//EN
CALSCALE:GREGORIAN
METHOD:PUBLISH
X-ORIGINAL-URL:https://stlukesrenton.org
X-WR-CALDESC:Events for St. Luke&#039;s Episcopal Church
REFRESH-INTERVAL;VALUE=DURATION:PT1H
X-Robots-Tag:noindex
X-PUBLISHED-TTL:PT1H
BEGIN:VTIMEZONE
TZID:America/Los_Angeles
BEGIN:DAYLIGHT
TZOFFSETFROM:-0800
TZOFFSETTO:-0700
TZNAME:PDT
DTSTART:20210314T100000
END:DAYLIGHT
BEGIN:STANDARD
TZOFFSETFROM:-0700
TZOFFSETTO:-0800
TZNAME:PST
DTSTART:20211107T090000
END:STANDARD
BEGIN:DAYLIGHT
TZOFFSETFROM:-0800
TZOFFSETTO:-0700
TZNAME:PDT
DTSTART:20220313T100000
END:DAYLIGHT
BEGIN:STANDARD
TZOFFSETFROM:-0700
TZOFFSETTO:-0800
TZNAME:PST
DTSTART:20221106T090000
END:STANDARD
BEGIN:DAYLIGHT
TZOFFSETFROM:-0800
TZOFFSETTO:-0700
TZNAME:PDT
DTSTART:20230312T100000
END:DAYLIGHT
BEGIN:STANDARD
TZOFFSETFROM:-0700
TZOFFSETTO:-0800
TZNAME:PST
DTSTART:20231105T090000
END:STANDARD
END:VTIMEZONE
BEGIN:VEVENT
DTSTART;TZID=America/Los_Angeles:20220612T080000
DTEND;TZID=America/Los_Angeles:20220612T090000
DTSTAMP:20260424T124451
CREATED:20180423T152208Z
LAST-MODIFIED:20180423T152208Z
UID:12481-1655020800-1655024400@stlukesrenton.org
SUMMARY:Holy Eucharist
DESCRIPTION:We celebrate our lives in Christ\, proclaiming an authentic faith for real people. We proclaim God’s love for all through ritual\, song\, prayer\, scripture\, silence\, beauty\, and communion.
URL:https://stlukesrenton.org/event/holy-eucharist-2022-06-12/
LOCATION:St. Luke’s\, 99 Wells Ave S\, Renton\, 98057\, United States
CATEGORIES:Liturgy
ATTACH;FMTTYPE=image/jpeg:https://stlukesrenton.org/wp-content/uploads/2018/04/img_4700.jpg
ORGANIZER;CN="St. Luke's Episcopal Church":MAILTO:info@stlukesrenton.org
END:VEVENT
BEGIN:VEVENT
DTSTART;TZID=America/Los_Angeles:20220608T180000
DTEND;TZID=America/Los_Angeles:20220608T183000
DTSTAMP:20260424T124451
CREATED:20180423T151758Z
LAST-MODIFIED:20180423T151758Z
UID:12468-1654711200-1654713000@stlukesrenton.org
SUMMARY:Vesper Mass
DESCRIPTION:This intimate\, meditative liturgy begins with the Episcopal evening office (Evening Prayer) and continues with communion. We gather in the sanctuary (altar area) of the church for this half-hour liturgy. \nA half-hour of silent meditation begins before vesper mass at 5:30 pm.
URL:https://stlukesrenton.org/event/vesper-mass-2022-06-08/
LOCATION:St. Luke’s\, Main Church\, 99 Wells Ave S\, Renton\, WA\, 98057\, United States
CATEGORIES:Liturgy
ATTACH;FMTTYPE=image/jpeg:https://stlukesrenton.org/wp-content/uploads/2018/04/img_4692.jpg
ORGANIZER;CN="St. Luke's Episcopal Church":MAILTO:info@stlukesrenton.org
END:VEVENT
BEGIN:VEVENT
DTSTART;TZID=America/Los_Angeles:20220608T173000
DTEND;TZID=America/Los_Angeles:20220608T180000
DTSTAMP:20260424T124451
CREATED:20180423T151536Z
LAST-MODIFIED:20180423T151536Z
UID:12467-1654709400-1654711200@stlukesrenton.org
SUMMARY:Silent Meditation
DESCRIPTION:A half-hour of silent meditation begins at 5:30 pm. We gather in the sanctuary (altar area) of the church. \nTo best protect our community from the spread of COVID-19\, all church events have moved online. Please visit our online church hub at stlukesrenton.org/livestream for livestream liturgies\, Zoom classes\, prayer requests\, bulletins\, and other news.
URL:https://stlukesrenton.org/event/silent-meditation-2022-06-08/
LOCATION:St. Luke’s\, 99 Wells Ave S\, Renton\, 98057\, United States
CATEGORIES:Liturgy
ATTACH;FMTTYPE=image/jpeg:https://stlukesrenton.org/wp-content/uploads/2018/04/img_4697.jpg
ORGANIZER;CN="St. Luke's Episcopal Church":MAILTO:info@stlukesrenton.org
END:VEVENT
BEGIN:VEVENT
DTSTART;TZID=America/Los_Angeles:20220605T103000
DTEND;TZID=America/Los_Angeles:20220605T120000
DTSTAMP:20260424T124451
CREATED:20180423T152435Z
LAST-MODIFIED:20180423T152435Z
UID:12450-1654425000-1654430400@stlukesrenton.org
SUMMARY:Holy Eucharist
DESCRIPTION:We celebrate our lives in Christ\, proclaiming an authentic faith for real people. We proclaim God’s love for all through ritual\, song\, prayer\, scripture\, silence\, beauty\, and communion. \nTo best protect our community from the spread of COVID-19\, all church events have moved online. Please visit our online church hub at stlukesrenton.org/livestream for livestream liturgies\, Zoom classes\, prayer requests\, bulletins\, and other news.
URL:https://stlukesrenton.org/event/holy-eucharist-2-2020-04-12-2022-06-05/
LOCATION:St. Luke’s\, Main Church\, 99 Wells Ave S\, Renton\, WA\, 98057\, United States
CATEGORIES:Liturgy
ATTACH;FMTTYPE=image/jpeg:https://stlukesrenton.org/wp-content/uploads/2018/04/img_4692-1.jpg
ORGANIZER;CN="St. Luke's Episcopal Church":MAILTO:info@stlukesrenton.org
END:VEVENT
BEGIN:VEVENT
DTSTART;TZID=America/Los_Angeles:20220605T103000
DTEND;TZID=America/Los_Angeles:20220605T120000
DTSTAMP:20260424T124451
CREATED:20180423T152435Z
LAST-MODIFIED:20180423T152435Z
UID:12452-1654425000-1654430400@stlukesrenton.org
SUMMARY:Holy Eucharist
DESCRIPTION:We celebrate our lives in Christ\, proclaiming an authentic faith for real people. We proclaim God’s love for all through ritual\, song\, prayer\, scripture\, silence\, beauty\, and communion.
URL:https://stlukesrenton.org/event/holy-eucharist-2-2022-06-05/
LOCATION:St. Luke’s\, Main Church\, 99 Wells Ave S\, Renton\, WA\, 98057\, United States
CATEGORIES:Liturgy
ATTACH;FMTTYPE=image/jpeg:https://stlukesrenton.org/wp-content/uploads/2018/04/img_4692-1.jpg
ORGANIZER;CN="St. Luke's Episcopal Church":MAILTO:info@stlukesrenton.org
END:VEVENT
BEGIN:VEVENT
DTSTART;TZID=America/Los_Angeles:20220605T080000
DTEND;TZID=America/Los_Angeles:20220605T090000
DTSTAMP:20260424T124451
CREATED:20180423T152208Z
LAST-MODIFIED:20180423T152208Z
UID:12451-1654416000-1654419600@stlukesrenton.org
SUMMARY:Holy Eucharist
DESCRIPTION:We celebrate our lives in Christ\, proclaiming an authentic faith for real people. We proclaim God’s love for all through ritual\, song\, prayer\, scripture\, silence\, beauty\, and communion.
URL:https://stlukesrenton.org/event/holy-eucharist-2022-06-05/
LOCATION:St. Luke’s\, 99 Wells Ave S\, Renton\, 98057\, United States
CATEGORIES:Liturgy
ATTACH;FMTTYPE=image/jpeg:https://stlukesrenton.org/wp-content/uploads/2018/04/img_4700.jpg
ORGANIZER;CN="St. Luke's Episcopal Church":MAILTO:info@stlukesrenton.org
END:VEVENT
BEGIN:VEVENT
DTSTART;TZID=America/Los_Angeles:20220601T180000
DTEND;TZID=America/Los_Angeles:20220601T183000
DTSTAMP:20260424T124451
CREATED:20180423T151758Z
LAST-MODIFIED:20180423T151758Z
UID:12440-1654106400-1654108200@stlukesrenton.org
SUMMARY:Vesper Mass
DESCRIPTION:This intimate\, meditative liturgy begins with the Episcopal evening office (Evening Prayer) and continues with communion. We gather in the sanctuary (altar area) of the church for this half-hour liturgy. \nA half-hour of silent meditation begins before vesper mass at 5:30 pm.
URL:https://stlukesrenton.org/event/vesper-mass-2022-06-01/
LOCATION:St. Luke’s\, Main Church\, 99 Wells Ave S\, Renton\, WA\, 98057\, United States
CATEGORIES:Liturgy
ATTACH;FMTTYPE=image/jpeg:https://stlukesrenton.org/wp-content/uploads/2018/04/img_4692.jpg
ORGANIZER;CN="St. Luke's Episcopal Church":MAILTO:info@stlukesrenton.org
END:VEVENT
BEGIN:VEVENT
DTSTART;TZID=America/Los_Angeles:20220601T173000
DTEND;TZID=America/Los_Angeles:20220601T180000
DTSTAMP:20260424T124451
CREATED:20180423T151536Z
LAST-MODIFIED:20180423T151536Z
UID:12439-1654104600-1654106400@stlukesrenton.org
SUMMARY:Silent Meditation
DESCRIPTION:A half-hour of silent meditation begins at 5:30 pm. We gather in the sanctuary (altar area) of the church. \nTo best protect our community from the spread of COVID-19\, all church events have moved online. Please visit our online church hub at stlukesrenton.org/livestream for livestream liturgies\, Zoom classes\, prayer requests\, bulletins\, and other news.
URL:https://stlukesrenton.org/event/silent-meditation-2022-06-01/
LOCATION:St. Luke’s\, 99 Wells Ave S\, Renton\, 98057\, United States
CATEGORIES:Liturgy
ATTACH;FMTTYPE=image/jpeg:https://stlukesrenton.org/wp-content/uploads/2018/04/img_4697.jpg
ORGANIZER;CN="St. Luke's Episcopal Church":MAILTO:info@stlukesrenton.org
END:VEVENT
BEGIN:VEVENT
DTSTART;TZID=America/Los_Angeles:20220529T103000
DTEND;TZID=America/Los_Angeles:20220529T120000
DTSTAMP:20260424T124451
CREATED:20180423T152435Z
LAST-MODIFIED:20180423T152435Z
UID:12426-1653820200-1653825600@stlukesrenton.org
SUMMARY:Holy Eucharist
DESCRIPTION:We celebrate our lives in Christ\, proclaiming an authentic faith for real people. We proclaim God’s love for all through ritual\, song\, prayer\, scripture\, silence\, beauty\, and communion. \nTo best protect our community from the spread of COVID-19\, all church events have moved online. Please visit our online church hub at stlukesrenton.org/livestream for livestream liturgies\, Zoom classes\, prayer requests\, bulletins\, and other news.
URL:https://stlukesrenton.org/event/holy-eucharist-2-2020-04-12-2022-05-29/
LOCATION:St. Luke’s\, Main Church\, 99 Wells Ave S\, Renton\, WA\, 98057\, United States
CATEGORIES:Liturgy
ATTACH;FMTTYPE=image/jpeg:https://stlukesrenton.org/wp-content/uploads/2018/04/img_4692-1.jpg
ORGANIZER;CN="St. Luke's Episcopal Church":MAILTO:info@stlukesrenton.org
END:VEVENT
BEGIN:VEVENT
DTSTART;TZID=America/Los_Angeles:20220529T103000
DTEND;TZID=America/Los_Angeles:20220529T120000
DTSTAMP:20260424T124451
CREATED:20180423T152435Z
LAST-MODIFIED:20180423T152435Z
UID:12428-1653820200-1653825600@stlukesrenton.org
SUMMARY:Holy Eucharist
DESCRIPTION:We celebrate our lives in Christ\, proclaiming an authentic faith for real people. We proclaim God’s love for all through ritual\, song\, prayer\, scripture\, silence\, beauty\, and communion.
URL:https://stlukesrenton.org/event/holy-eucharist-2-2022-05-29/
LOCATION:St. Luke’s\, Main Church\, 99 Wells Ave S\, Renton\, WA\, 98057\, United States
CATEGORIES:Liturgy
ATTACH;FMTTYPE=image/jpeg:https://stlukesrenton.org/wp-content/uploads/2018/04/img_4692-1.jpg
ORGANIZER;CN="St. Luke's Episcopal Church":MAILTO:info@stlukesrenton.org
END:VEVENT
BEGIN:VEVENT
DTSTART;TZID=America/Los_Angeles:20220529T080000
DTEND;TZID=America/Los_Angeles:20220529T090000
DTSTAMP:20260424T124451
CREATED:20180423T152208Z
LAST-MODIFIED:20180423T152208Z
UID:12427-1653811200-1653814800@stlukesrenton.org
SUMMARY:Holy Eucharist
DESCRIPTION:We celebrate our lives in Christ\, proclaiming an authentic faith for real people. We proclaim God’s love for all through ritual\, song\, prayer\, scripture\, silence\, beauty\, and communion.
URL:https://stlukesrenton.org/event/holy-eucharist-2022-05-29/
LOCATION:St. Luke’s\, 99 Wells Ave S\, Renton\, 98057\, United States
CATEGORIES:Liturgy
ATTACH;FMTTYPE=image/jpeg:https://stlukesrenton.org/wp-content/uploads/2018/04/img_4700.jpg
ORGANIZER;CN="St. Luke's Episcopal Church":MAILTO:info@stlukesrenton.org
END:VEVENT
BEGIN:VEVENT
DTSTART;TZID=America/Los_Angeles:20220525T180000
DTEND;TZID=America/Los_Angeles:20220525T183000
DTSTAMP:20260424T124451
CREATED:20180423T151758Z
LAST-MODIFIED:20180423T151758Z
UID:12414-1653501600-1653503400@stlukesrenton.org
SUMMARY:Vesper Mass
DESCRIPTION:This intimate\, meditative liturgy begins with the Episcopal evening office (Evening Prayer) and continues with communion. We gather in the sanctuary (altar area) of the church for this half-hour liturgy. \nA half-hour of silent meditation begins before vesper mass at 5:30 pm.
URL:https://stlukesrenton.org/event/vesper-mass-2022-05-25/
LOCATION:St. Luke’s\, Main Church\, 99 Wells Ave S\, Renton\, WA\, 98057\, United States
CATEGORIES:Liturgy
ATTACH;FMTTYPE=image/jpeg:https://stlukesrenton.org/wp-content/uploads/2018/04/img_4692.jpg
ORGANIZER;CN="St. Luke's Episcopal Church":MAILTO:info@stlukesrenton.org
END:VEVENT
BEGIN:VEVENT
DTSTART;TZID=America/Los_Angeles:20220525T173000
DTEND;TZID=America/Los_Angeles:20220525T180000
DTSTAMP:20260424T124451
CREATED:20180423T151536Z
LAST-MODIFIED:20180423T151536Z
UID:12413-1653499800-1653501600@stlukesrenton.org
SUMMARY:Silent Meditation
DESCRIPTION:A half-hour of silent meditation begins at 5:30 pm. We gather in the sanctuary (altar area) of the church. \nTo best protect our community from the spread of COVID-19\, all church events have moved online. Please visit our online church hub at stlukesrenton.org/livestream for livestream liturgies\, Zoom classes\, prayer requests\, bulletins\, and other news.
URL:https://stlukesrenton.org/event/silent-meditation-2022-05-25/
LOCATION:St. Luke’s\, 99 Wells Ave S\, Renton\, 98057\, United States
CATEGORIES:Liturgy
ATTACH;FMTTYPE=image/jpeg:https://stlukesrenton.org/wp-content/uploads/2018/04/img_4697.jpg
ORGANIZER;CN="St. Luke's Episcopal Church":MAILTO:info@stlukesrenton.org
END:VEVENT
BEGIN:VEVENT
DTSTART;TZID=America/Los_Angeles:20220522T103000
DTEND;TZID=America/Los_Angeles:20220522T120000
DTSTAMP:20260424T124451
CREATED:20180423T152435Z
LAST-MODIFIED:20180423T152435Z
UID:12402-1653215400-1653220800@stlukesrenton.org
SUMMARY:Holy Eucharist
DESCRIPTION:We celebrate our lives in Christ\, proclaiming an authentic faith for real people. We proclaim God’s love for all through ritual\, song\, prayer\, scripture\, silence\, beauty\, and communion.
URL:https://stlukesrenton.org/event/holy-eucharist-2-2022-05-22/
LOCATION:St. Luke’s\, Main Church\, 99 Wells Ave S\, Renton\, WA\, 98057\, United States
CATEGORIES:Liturgy
ATTACH;FMTTYPE=image/jpeg:https://stlukesrenton.org/wp-content/uploads/2018/04/img_4692-1.jpg
ORGANIZER;CN="St. Luke's Episcopal Church":MAILTO:info@stlukesrenton.org
END:VEVENT
BEGIN:VEVENT
DTSTART;TZID=America/Los_Angeles:20220522T103000
DTEND;TZID=America/Los_Angeles:20220522T120000
DTSTAMP:20260424T124451
CREATED:20180423T152435Z
LAST-MODIFIED:20180423T152435Z
UID:12400-1653215400-1653220800@stlukesrenton.org
SUMMARY:Holy Eucharist
DESCRIPTION:We celebrate our lives in Christ\, proclaiming an authentic faith for real people. We proclaim God’s love for all through ritual\, song\, prayer\, scripture\, silence\, beauty\, and communion. \nTo best protect our community from the spread of COVID-19\, all church events have moved online. Please visit our online church hub at stlukesrenton.org/livestream for livestream liturgies\, Zoom classes\, prayer requests\, bulletins\, and other news.
URL:https://stlukesrenton.org/event/holy-eucharist-2-2020-04-12-2022-05-22/
LOCATION:St. Luke’s\, Main Church\, 99 Wells Ave S\, Renton\, WA\, 98057\, United States
CATEGORIES:Liturgy
ATTACH;FMTTYPE=image/jpeg:https://stlukesrenton.org/wp-content/uploads/2018/04/img_4692-1.jpg
ORGANIZER;CN="St. Luke's Episcopal Church":MAILTO:info@stlukesrenton.org
END:VEVENT
BEGIN:VEVENT
DTSTART;TZID=America/Los_Angeles:20220522T080000
DTEND;TZID=America/Los_Angeles:20220522T090000
DTSTAMP:20260424T124451
CREATED:20180423T152208Z
LAST-MODIFIED:20180423T152208Z
UID:12401-1653206400-1653210000@stlukesrenton.org
SUMMARY:Holy Eucharist
DESCRIPTION:We celebrate our lives in Christ\, proclaiming an authentic faith for real people. We proclaim God’s love for all through ritual\, song\, prayer\, scripture\, silence\, beauty\, and communion.
URL:https://stlukesrenton.org/event/holy-eucharist-2022-05-22/
LOCATION:St. Luke’s\, 99 Wells Ave S\, Renton\, 98057\, United States
CATEGORIES:Liturgy
ATTACH;FMTTYPE=image/jpeg:https://stlukesrenton.org/wp-content/uploads/2018/04/img_4700.jpg
ORGANIZER;CN="St. Luke's Episcopal Church":MAILTO:info@stlukesrenton.org
END:VEVENT
BEGIN:VEVENT
DTSTART;TZID=America/Los_Angeles:20220518T180000
DTEND;TZID=America/Los_Angeles:20220518T183000
DTSTAMP:20260424T124451
CREATED:20180423T151758Z
LAST-MODIFIED:20180423T151758Z
UID:12392-1652896800-1652898600@stlukesrenton.org
SUMMARY:Vesper Mass
DESCRIPTION:This intimate\, meditative liturgy begins with the Episcopal evening office (Evening Prayer) and continues with communion. We gather in the sanctuary (altar area) of the church for this half-hour liturgy. \nA half-hour of silent meditation begins before vesper mass at 5:30 pm.
URL:https://stlukesrenton.org/event/vesper-mass-2022-05-18/
LOCATION:St. Luke’s\, Main Church\, 99 Wells Ave S\, Renton\, WA\, 98057\, United States
CATEGORIES:Liturgy
ATTACH;FMTTYPE=image/jpeg:https://stlukesrenton.org/wp-content/uploads/2018/04/img_4692.jpg
ORGANIZER;CN="St. Luke's Episcopal Church":MAILTO:info@stlukesrenton.org
END:VEVENT
BEGIN:VEVENT
DTSTART;TZID=America/Los_Angeles:20220518T173000
DTEND;TZID=America/Los_Angeles:20220518T180000
DTSTAMP:20260424T124451
CREATED:20180423T151536Z
LAST-MODIFIED:20180423T151536Z
UID:12391-1652895000-1652896800@stlukesrenton.org
SUMMARY:Silent Meditation
DESCRIPTION:A half-hour of silent meditation begins at 5:30 pm. We gather in the sanctuary (altar area) of the church. \nTo best protect our community from the spread of COVID-19\, all church events have moved online. Please visit our online church hub at stlukesrenton.org/livestream for livestream liturgies\, Zoom classes\, prayer requests\, bulletins\, and other news.
URL:https://stlukesrenton.org/event/silent-meditation-2022-05-18/
LOCATION:St. Luke’s\, 99 Wells Ave S\, Renton\, 98057\, United States
CATEGORIES:Liturgy
ATTACH;FMTTYPE=image/jpeg:https://stlukesrenton.org/wp-content/uploads/2018/04/img_4697.jpg
ORGANIZER;CN="St. Luke's Episcopal Church":MAILTO:info@stlukesrenton.org
END:VEVENT
BEGIN:VEVENT
DTSTART;TZID=America/Los_Angeles:20220515T103000
DTEND;TZID=America/Los_Angeles:20220515T120000
DTSTAMP:20260424T124451
CREATED:20180423T152435Z
LAST-MODIFIED:20180423T152435Z
UID:12377-1652610600-1652616000@stlukesrenton.org
SUMMARY:Holy Eucharist
DESCRIPTION:We celebrate our lives in Christ\, proclaiming an authentic faith for real people. We proclaim God’s love for all through ritual\, song\, prayer\, scripture\, silence\, beauty\, and communion. \nTo best protect our community from the spread of COVID-19\, all church events have moved online. Please visit our online church hub at stlukesrenton.org/livestream for livestream liturgies\, Zoom classes\, prayer requests\, bulletins\, and other news.
URL:https://stlukesrenton.org/event/holy-eucharist-2-2020-04-12-2022-05-15/
LOCATION:St. Luke’s\, Main Church\, 99 Wells Ave S\, Renton\, WA\, 98057\, United States
CATEGORIES:Liturgy
ATTACH;FMTTYPE=image/jpeg:https://stlukesrenton.org/wp-content/uploads/2018/04/img_4692-1.jpg
ORGANIZER;CN="St. Luke's Episcopal Church":MAILTO:info@stlukesrenton.org
END:VEVENT
BEGIN:VEVENT
DTSTART;TZID=America/Los_Angeles:20220515T103000
DTEND;TZID=America/Los_Angeles:20220515T120000
DTSTAMP:20260424T124451
CREATED:20180423T152435Z
LAST-MODIFIED:20180423T152435Z
UID:12379-1652610600-1652616000@stlukesrenton.org
SUMMARY:Holy Eucharist
DESCRIPTION:We celebrate our lives in Christ\, proclaiming an authentic faith for real people. We proclaim God’s love for all through ritual\, song\, prayer\, scripture\, silence\, beauty\, and communion.
URL:https://stlukesrenton.org/event/holy-eucharist-2-2022-05-15/
LOCATION:St. Luke’s\, Main Church\, 99 Wells Ave S\, Renton\, WA\, 98057\, United States
CATEGORIES:Liturgy
ATTACH;FMTTYPE=image/jpeg:https://stlukesrenton.org/wp-content/uploads/2018/04/img_4692-1.jpg
ORGANIZER;CN="St. Luke's Episcopal Church":MAILTO:info@stlukesrenton.org
END:VEVENT
BEGIN:VEVENT
DTSTART;TZID=America/Los_Angeles:20220515T080000
DTEND;TZID=America/Los_Angeles:20220515T090000
DTSTAMP:20260424T124451
CREATED:20180423T152208Z
LAST-MODIFIED:20180423T152208Z
UID:12378-1652601600-1652605200@stlukesrenton.org
SUMMARY:Holy Eucharist
DESCRIPTION:We celebrate our lives in Christ\, proclaiming an authentic faith for real people. We proclaim God’s love for all through ritual\, song\, prayer\, scripture\, silence\, beauty\, and communion.
URL:https://stlukesrenton.org/event/holy-eucharist-2022-05-15/
LOCATION:St. Luke’s\, 99 Wells Ave S\, Renton\, 98057\, United States
CATEGORIES:Liturgy
ATTACH;FMTTYPE=image/jpeg:https://stlukesrenton.org/wp-content/uploads/2018/04/img_4700.jpg
ORGANIZER;CN="St. Luke's Episcopal Church":MAILTO:info@stlukesrenton.org
END:VEVENT
BEGIN:VEVENT
DTSTART;TZID=America/Los_Angeles:20220511T180000
DTEND;TZID=America/Los_Angeles:20220511T183000
DTSTAMP:20260424T124451
CREATED:20180423T151758Z
LAST-MODIFIED:20180423T151758Z
UID:12362-1652292000-1652293800@stlukesrenton.org
SUMMARY:Vesper Mass
DESCRIPTION:This intimate\, meditative liturgy begins with the Episcopal evening office (Evening Prayer) and continues with communion. We gather in the sanctuary (altar area) of the church for this half-hour liturgy. \nA half-hour of silent meditation begins before vesper mass at 5:30 pm.
URL:https://stlukesrenton.org/event/vesper-mass-2022-05-11/
LOCATION:St. Luke’s\, Main Church\, 99 Wells Ave S\, Renton\, WA\, 98057\, United States
CATEGORIES:Liturgy
ATTACH;FMTTYPE=image/jpeg:https://stlukesrenton.org/wp-content/uploads/2018/04/img_4692.jpg
ORGANIZER;CN="St. Luke's Episcopal Church":MAILTO:info@stlukesrenton.org
END:VEVENT
BEGIN:VEVENT
DTSTART;TZID=America/Los_Angeles:20220511T173000
DTEND;TZID=America/Los_Angeles:20220511T180000
DTSTAMP:20260424T124451
CREATED:20180423T151536Z
LAST-MODIFIED:20180423T151536Z
UID:12361-1652290200-1652292000@stlukesrenton.org
SUMMARY:Silent Meditation
DESCRIPTION:A half-hour of silent meditation begins at 5:30 pm. We gather in the sanctuary (altar area) of the church. \nTo best protect our community from the spread of COVID-19\, all church events have moved online. Please visit our online church hub at stlukesrenton.org/livestream for livestream liturgies\, Zoom classes\, prayer requests\, bulletins\, and other news.
URL:https://stlukesrenton.org/event/silent-meditation-2022-05-11/
LOCATION:St. Luke’s\, 99 Wells Ave S\, Renton\, 98057\, United States
CATEGORIES:Liturgy
ATTACH;FMTTYPE=image/jpeg:https://stlukesrenton.org/wp-content/uploads/2018/04/img_4697.jpg
ORGANIZER;CN="St. Luke's Episcopal Church":MAILTO:info@stlukesrenton.org
END:VEVENT
BEGIN:VEVENT
DTSTART;TZID=America/Los_Angeles:20220508T103000
DTEND;TZID=America/Los_Angeles:20220508T120000
DTSTAMP:20260424T124451
CREATED:20180423T152435Z
LAST-MODIFIED:20180423T152435Z
UID:12347-1652005800-1652011200@stlukesrenton.org
SUMMARY:Holy Eucharist
DESCRIPTION:We celebrate our lives in Christ\, proclaiming an authentic faith for real people. We proclaim God’s love for all through ritual\, song\, prayer\, scripture\, silence\, beauty\, and communion. \nTo best protect our community from the spread of COVID-19\, all church events have moved online. Please visit our online church hub at stlukesrenton.org/livestream for livestream liturgies\, Zoom classes\, prayer requests\, bulletins\, and other news.
URL:https://stlukesrenton.org/event/holy-eucharist-2-2020-04-12-2022-05-08/
LOCATION:St. Luke’s\, Main Church\, 99 Wells Ave S\, Renton\, WA\, 98057\, United States
CATEGORIES:Liturgy
ATTACH;FMTTYPE=image/jpeg:https://stlukesrenton.org/wp-content/uploads/2018/04/img_4692-1.jpg
ORGANIZER;CN="St. Luke's Episcopal Church":MAILTO:info@stlukesrenton.org
END:VEVENT
BEGIN:VEVENT
DTSTART;TZID=America/Los_Angeles:20220508T103000
DTEND;TZID=America/Los_Angeles:20220508T120000
DTSTAMP:20260424T124451
CREATED:20180423T152435Z
LAST-MODIFIED:20180423T152435Z
UID:12349-1652005800-1652011200@stlukesrenton.org
SUMMARY:Holy Eucharist
DESCRIPTION:We celebrate our lives in Christ\, proclaiming an authentic faith for real people. We proclaim God’s love for all through ritual\, song\, prayer\, scripture\, silence\, beauty\, and communion.
URL:https://stlukesrenton.org/event/holy-eucharist-2-2022-05-08/
LOCATION:St. Luke’s\, Main Church\, 99 Wells Ave S\, Renton\, WA\, 98057\, United States
CATEGORIES:Liturgy
ATTACH;FMTTYPE=image/jpeg:https://stlukesrenton.org/wp-content/uploads/2018/04/img_4692-1.jpg
ORGANIZER;CN="St. Luke's Episcopal Church":MAILTO:info@stlukesrenton.org
END:VEVENT
BEGIN:VEVENT
DTSTART;TZID=America/Los_Angeles:20220508T080000
DTEND;TZID=America/Los_Angeles:20220508T090000
DTSTAMP:20260424T124451
CREATED:20180423T152208Z
LAST-MODIFIED:20180423T152208Z
UID:12348-1651996800-1652000400@stlukesrenton.org
SUMMARY:Holy Eucharist
DESCRIPTION:We celebrate our lives in Christ\, proclaiming an authentic faith for real people. We proclaim God’s love for all through ritual\, song\, prayer\, scripture\, silence\, beauty\, and communion.
URL:https://stlukesrenton.org/event/holy-eucharist-2022-05-08/
LOCATION:St. Luke’s\, 99 Wells Ave S\, Renton\, 98057\, United States
CATEGORIES:Liturgy
ATTACH;FMTTYPE=image/jpeg:https://stlukesrenton.org/wp-content/uploads/2018/04/img_4700.jpg
ORGANIZER;CN="St. Luke's Episcopal Church":MAILTO:info@stlukesrenton.org
END:VEVENT
BEGIN:VEVENT
DTSTART;TZID=America/Los_Angeles:20220504T180000
DTEND;TZID=America/Los_Angeles:20220504T183000
DTSTAMP:20260424T124451
CREATED:20180423T151758Z
LAST-MODIFIED:20180423T151758Z
UID:12329-1651687200-1651689000@stlukesrenton.org
SUMMARY:Vesper Mass
DESCRIPTION:This intimate\, meditative liturgy begins with the Episcopal evening office (Evening Prayer) and continues with communion. We gather in the sanctuary (altar area) of the church for this half-hour liturgy. \nA half-hour of silent meditation begins before vesper mass at 5:30 pm.
URL:https://stlukesrenton.org/event/vesper-mass-2022-05-04/
LOCATION:St. Luke’s\, Main Church\, 99 Wells Ave S\, Renton\, WA\, 98057\, United States
CATEGORIES:Liturgy
ATTACH;FMTTYPE=image/jpeg:https://stlukesrenton.org/wp-content/uploads/2018/04/img_4692.jpg
ORGANIZER;CN="St. Luke's Episcopal Church":MAILTO:info@stlukesrenton.org
END:VEVENT
BEGIN:VEVENT
DTSTART;TZID=America/Los_Angeles:20220504T173000
DTEND;TZID=America/Los_Angeles:20220504T180000
DTSTAMP:20260424T124451
CREATED:20180423T151536Z
LAST-MODIFIED:20180423T151536Z
UID:12328-1651685400-1651687200@stlukesrenton.org
SUMMARY:Silent Meditation
DESCRIPTION:A half-hour of silent meditation begins at 5:30 pm. We gather in the sanctuary (altar area) of the church. \nTo best protect our community from the spread of COVID-19\, all church events have moved online. Please visit our online church hub at stlukesrenton.org/livestream for livestream liturgies\, Zoom classes\, prayer requests\, bulletins\, and other news.
URL:https://stlukesrenton.org/event/silent-meditation-2022-05-04/
LOCATION:St. Luke’s\, 99 Wells Ave S\, Renton\, 98057\, United States
CATEGORIES:Liturgy
ATTACH;FMTTYPE=image/jpeg:https://stlukesrenton.org/wp-content/uploads/2018/04/img_4697.jpg
ORGANIZER;CN="St. Luke's Episcopal Church":MAILTO:info@stlukesrenton.org
END:VEVENT
BEGIN:VEVENT
DTSTART;TZID=America/Los_Angeles:20220501T103000
DTEND;TZID=America/Los_Angeles:20220501T120000
DTSTAMP:20260424T124451
CREATED:20180423T152435Z
LAST-MODIFIED:20180423T152435Z
UID:12316-1651401000-1651406400@stlukesrenton.org
SUMMARY:Holy Eucharist
DESCRIPTION:We celebrate our lives in Christ\, proclaiming an authentic faith for real people. We proclaim God’s love for all through ritual\, song\, prayer\, scripture\, silence\, beauty\, and communion. \nTo best protect our community from the spread of COVID-19\, all church events have moved online. Please visit our online church hub at stlukesrenton.org/livestream for livestream liturgies\, Zoom classes\, prayer requests\, bulletins\, and other news.
URL:https://stlukesrenton.org/event/holy-eucharist-2-2020-04-12-2022-05-01/
LOCATION:St. Luke’s\, Main Church\, 99 Wells Ave S\, Renton\, WA\, 98057\, United States
CATEGORIES:Liturgy
ATTACH;FMTTYPE=image/jpeg:https://stlukesrenton.org/wp-content/uploads/2018/04/img_4692-1.jpg
ORGANIZER;CN="St. Luke's Episcopal Church":MAILTO:info@stlukesrenton.org
END:VEVENT
BEGIN:VEVENT
DTSTART;TZID=America/Los_Angeles:20220501T103000
DTEND;TZID=America/Los_Angeles:20220501T120000
DTSTAMP:20260424T124451
CREATED:20180423T152435Z
LAST-MODIFIED:20180423T152435Z
UID:12318-1651401000-1651406400@stlukesrenton.org
SUMMARY:Holy Eucharist
DESCRIPTION:We celebrate our lives in Christ\, proclaiming an authentic faith for real people. We proclaim God’s love for all through ritual\, song\, prayer\, scripture\, silence\, beauty\, and communion.
URL:https://stlukesrenton.org/event/holy-eucharist-2-2022-05-01/
LOCATION:St. Luke’s\, Main Church\, 99 Wells Ave S\, Renton\, WA\, 98057\, United States
CATEGORIES:Liturgy
ATTACH;FMTTYPE=image/jpeg:https://stlukesrenton.org/wp-content/uploads/2018/04/img_4692-1.jpg
ORGANIZER;CN="St. Luke's Episcopal Church":MAILTO:info@stlukesrenton.org
END:VEVENT
END:VCALENDAR