BEGIN:VCALENDAR
VERSION:2.0
PRODID:-//St. Luke&#039;s Episcopal Church - ECPv6.15.20//NONSGML v1.0//EN
CALSCALE:GREGORIAN
METHOD:PUBLISH
X-WR-CALNAME:St. Luke&#039;s Episcopal Church
X-ORIGINAL-URL:https://stlukesrenton.org
X-WR-CALDESC:Events for St. Luke&#039;s Episcopal Church
REFRESH-INTERVAL;VALUE=DURATION:PT1H
X-Robots-Tag:noindex
X-PUBLISHED-TTL:PT1H
BEGIN:VTIMEZONE
TZID:America/Los_Angeles
BEGIN:DAYLIGHT
TZOFFSETFROM:-0800
TZOFFSETTO:-0700
TZNAME:PDT
DTSTART:20210314T100000
END:DAYLIGHT
BEGIN:STANDARD
TZOFFSETFROM:-0700
TZOFFSETTO:-0800
TZNAME:PST
DTSTART:20211107T090000
END:STANDARD
BEGIN:DAYLIGHT
TZOFFSETFROM:-0800
TZOFFSETTO:-0700
TZNAME:PDT
DTSTART:20220313T100000
END:DAYLIGHT
BEGIN:STANDARD
TZOFFSETFROM:-0700
TZOFFSETTO:-0800
TZNAME:PST
DTSTART:20221106T090000
END:STANDARD
BEGIN:DAYLIGHT
TZOFFSETFROM:-0800
TZOFFSETTO:-0700
TZNAME:PDT
DTSTART:20230312T100000
END:DAYLIGHT
BEGIN:STANDARD
TZOFFSETFROM:-0700
TZOFFSETTO:-0800
TZNAME:PST
DTSTART:20231105T090000
END:STANDARD
END:VTIMEZONE
BEGIN:VEVENT
DTSTART;TZID=America/Los_Angeles:20220320T080000
DTEND;TZID=America/Los_Angeles:20220320T090000
DTSTAMP:20260424T193032
CREATED:20180423T152208Z
LAST-MODIFIED:20180423T152208Z
UID:12013-1647763200-1647766800@stlukesrenton.org
SUMMARY:Holy Eucharist
DESCRIPTION:We celebrate our lives in Christ\, proclaiming an authentic faith for real people. We proclaim God’s love for all through ritual\, song\, prayer\, scripture\, silence\, beauty\, and communion.
URL:https://stlukesrenton.org/event/holy-eucharist-2022-03-20/
LOCATION:St. Luke’s\, 99 Wells Ave S\, Renton\, 98057\, United States
CATEGORIES:Liturgy
ATTACH;FMTTYPE=image/jpeg:https://stlukesrenton.org/wp-content/uploads/2018/04/img_4700.jpg
ORGANIZER;CN="St. Luke's Episcopal Church":MAILTO:info@stlukesrenton.org
END:VEVENT
BEGIN:VEVENT
DTSTART;TZID=America/Los_Angeles:20220316T180000
DTEND;TZID=America/Los_Angeles:20220316T183000
DTSTAMP:20260424T193032
CREATED:20180423T151758Z
LAST-MODIFIED:20180423T151758Z
UID:11994-1647453600-1647455400@stlukesrenton.org
SUMMARY:Vesper Mass
DESCRIPTION:This intimate\, meditative liturgy begins with the Episcopal evening office (Evening Prayer) and continues with communion. We gather in the sanctuary (altar area) of the church for this half-hour liturgy. \nA half-hour of silent meditation begins before vesper mass at 5:30 pm.
URL:https://stlukesrenton.org/event/vesper-mass-2022-03-16/
LOCATION:St. Luke’s\, Main Church\, 99 Wells Ave S\, Renton\, WA\, 98057\, United States
CATEGORIES:Liturgy
ATTACH;FMTTYPE=image/jpeg:https://stlukesrenton.org/wp-content/uploads/2018/04/img_4692.jpg
ORGANIZER;CN="St. Luke's Episcopal Church":MAILTO:info@stlukesrenton.org
END:VEVENT
BEGIN:VEVENT
DTSTART;TZID=America/Los_Angeles:20220316T173000
DTEND;TZID=America/Los_Angeles:20220316T180000
DTSTAMP:20260424T193032
CREATED:20180423T151536Z
LAST-MODIFIED:20210311T143419Z
UID:11993-1647451800-1647453600@stlukesrenton.org
SUMMARY:Silent Meditation
DESCRIPTION:A half-hour of silent meditation begins at 5:30 pm. We gather in the sanctuary (altar area) of the church. \nTo best protect our community from the spread of COVID-19\, all church events have moved online. Please visit our online church hub at stlukesrenton.org/livestream for livestream liturgies\, Zoom classes\, prayer requests\, bulletins\, and other news.
URL:https://stlukesrenton.org/event/silent-meditation-2022-03-16/
LOCATION:St. Luke’s\, 99 Wells Ave S\, Renton\, 98057\, United States
CATEGORIES:Liturgy
ATTACH;FMTTYPE=image/jpeg:https://stlukesrenton.org/wp-content/uploads/2018/04/img_4697.jpg
ORGANIZER;CN="St. Luke's Episcopal Church":MAILTO:info@stlukesrenton.org
END:VEVENT
BEGIN:VEVENT
DTSTART;TZID=America/Los_Angeles:20220313T103000
DTEND;TZID=America/Los_Angeles:20220313T120000
DTSTAMP:20260424T193032
CREATED:20180423T152435Z
LAST-MODIFIED:20180423T152435Z
UID:11967-1647167400-1647172800@stlukesrenton.org
SUMMARY:Holy Eucharist
DESCRIPTION:We celebrate our lives in Christ\, proclaiming an authentic faith for real people. We proclaim God’s love for all through ritual\, song\, prayer\, scripture\, silence\, beauty\, and communion. \nTo best protect our community from the spread of COVID-19\, all church events have moved online. Please visit our online church hub at stlukesrenton.org/livestream for livestream liturgies\, Zoom classes\, prayer requests\, bulletins\, and other news.
URL:https://stlukesrenton.org/event/holy-eucharist-2-2020-04-12-2022-03-13/
LOCATION:St. Luke’s\, Main Church\, 99 Wells Ave S\, Renton\, WA\, 98057\, United States
CATEGORIES:Liturgy
ATTACH;FMTTYPE=image/jpeg:https://stlukesrenton.org/wp-content/uploads/2018/04/img_4692-1.jpg
ORGANIZER;CN="St. Luke's Episcopal Church":MAILTO:info@stlukesrenton.org
END:VEVENT
BEGIN:VEVENT
DTSTART;TZID=America/Los_Angeles:20220313T103000
DTEND;TZID=America/Los_Angeles:20220313T120000
DTSTAMP:20260424T193032
CREATED:20180423T152435Z
LAST-MODIFIED:20180423T152435Z
UID:11969-1647167400-1647172800@stlukesrenton.org
SUMMARY:Holy Eucharist
DESCRIPTION:We celebrate our lives in Christ\, proclaiming an authentic faith for real people. We proclaim God’s love for all through ritual\, song\, prayer\, scripture\, silence\, beauty\, and communion.
URL:https://stlukesrenton.org/event/holy-eucharist-2-2022-03-13/
LOCATION:St. Luke’s\, Main Church\, 99 Wells Ave S\, Renton\, WA\, 98057\, United States
CATEGORIES:Liturgy
ATTACH;FMTTYPE=image/jpeg:https://stlukesrenton.org/wp-content/uploads/2018/04/img_4692-1.jpg
ORGANIZER;CN="St. Luke's Episcopal Church":MAILTO:info@stlukesrenton.org
END:VEVENT
BEGIN:VEVENT
DTSTART;TZID=America/Los_Angeles:20220313T080000
DTEND;TZID=America/Los_Angeles:20220313T090000
DTSTAMP:20260424T193032
CREATED:20180423T152208Z
LAST-MODIFIED:20180423T152208Z
UID:11968-1647158400-1647162000@stlukesrenton.org
SUMMARY:Holy Eucharist
DESCRIPTION:We celebrate our lives in Christ\, proclaiming an authentic faith for real people. We proclaim God’s love for all through ritual\, song\, prayer\, scripture\, silence\, beauty\, and communion.
URL:https://stlukesrenton.org/event/holy-eucharist-2022-03-13/
LOCATION:St. Luke’s\, 99 Wells Ave S\, Renton\, 98057\, United States
CATEGORIES:Liturgy
ATTACH;FMTTYPE=image/jpeg:https://stlukesrenton.org/wp-content/uploads/2018/04/img_4700.jpg
ORGANIZER;CN="St. Luke's Episcopal Church":MAILTO:info@stlukesrenton.org
END:VEVENT
BEGIN:VEVENT
DTSTART;TZID=America/Los_Angeles:20220309T180000
DTEND;TZID=America/Los_Angeles:20220309T183000
DTSTAMP:20260424T193032
CREATED:20180423T151758Z
LAST-MODIFIED:20180423T151758Z
UID:11958-1646848800-1646850600@stlukesrenton.org
SUMMARY:Vesper Mass
DESCRIPTION:This intimate\, meditative liturgy begins with the Episcopal evening office (Evening Prayer) and continues with communion. We gather in the sanctuary (altar area) of the church for this half-hour liturgy. \nA half-hour of silent meditation begins before vesper mass at 5:30 pm.
URL:https://stlukesrenton.org/event/vesper-mass-2022-03-09/
LOCATION:St. Luke’s\, Main Church\, 99 Wells Ave S\, Renton\, WA\, 98057\, United States
CATEGORIES:Liturgy
ATTACH;FMTTYPE=image/jpeg:https://stlukesrenton.org/wp-content/uploads/2018/04/img_4692.jpg
ORGANIZER;CN="St. Luke's Episcopal Church":MAILTO:info@stlukesrenton.org
END:VEVENT
BEGIN:VEVENT
DTSTART;TZID=America/Los_Angeles:20220309T173000
DTEND;TZID=America/Los_Angeles:20220309T180000
DTSTAMP:20260424T193032
CREATED:20180423T151536Z
LAST-MODIFIED:20210311T143418Z
UID:11957-1646847000-1646848800@stlukesrenton.org
SUMMARY:Silent Meditation
DESCRIPTION:A half-hour of silent meditation begins at 5:30 pm. We gather in the sanctuary (altar area) of the church. \nTo best protect our community from the spread of COVID-19\, all church events have moved online. Please visit our online church hub at stlukesrenton.org/livestream for livestream liturgies\, Zoom classes\, prayer requests\, bulletins\, and other news.
URL:https://stlukesrenton.org/event/silent-meditation-2022-03-09/
LOCATION:St. Luke’s\, 99 Wells Ave S\, Renton\, 98057\, United States
CATEGORIES:Liturgy
ATTACH;FMTTYPE=image/jpeg:https://stlukesrenton.org/wp-content/uploads/2018/04/img_4697.jpg
ORGANIZER;CN="St. Luke's Episcopal Church":MAILTO:info@stlukesrenton.org
END:VEVENT
BEGIN:VEVENT
DTSTART;TZID=America/Los_Angeles:20220306T103000
DTEND;TZID=America/Los_Angeles:20220306T120000
DTSTAMP:20260424T193032
CREATED:20180423T152435Z
LAST-MODIFIED:20180423T152435Z
UID:11947-1646562600-1646568000@stlukesrenton.org
SUMMARY:Holy Eucharist
DESCRIPTION:We celebrate our lives in Christ\, proclaiming an authentic faith for real people. We proclaim God’s love for all through ritual\, song\, prayer\, scripture\, silence\, beauty\, and communion.
URL:https://stlukesrenton.org/event/holy-eucharist-2-2022-03-06/
LOCATION:St. Luke’s\, Main Church\, 99 Wells Ave S\, Renton\, WA\, 98057\, United States
CATEGORIES:Liturgy
ATTACH;FMTTYPE=image/jpeg:https://stlukesrenton.org/wp-content/uploads/2018/04/img_4692-1.jpg
ORGANIZER;CN="St. Luke's Episcopal Church":MAILTO:info@stlukesrenton.org
END:VEVENT
BEGIN:VEVENT
DTSTART;TZID=America/Los_Angeles:20220306T103000
DTEND;TZID=America/Los_Angeles:20220306T120000
DTSTAMP:20260424T193032
CREATED:20180423T152435Z
LAST-MODIFIED:20180423T152435Z
UID:11945-1646562600-1646568000@stlukesrenton.org
SUMMARY:Holy Eucharist
DESCRIPTION:We celebrate our lives in Christ\, proclaiming an authentic faith for real people. We proclaim God’s love for all through ritual\, song\, prayer\, scripture\, silence\, beauty\, and communion. \nTo best protect our community from the spread of COVID-19\, all church events have moved online. Please visit our online church hub at stlukesrenton.org/livestream for livestream liturgies\, Zoom classes\, prayer requests\, bulletins\, and other news.
URL:https://stlukesrenton.org/event/holy-eucharist-2-2020-04-12-2022-03-06/
LOCATION:St. Luke’s\, Main Church\, 99 Wells Ave S\, Renton\, WA\, 98057\, United States
CATEGORIES:Liturgy
ATTACH;FMTTYPE=image/jpeg:https://stlukesrenton.org/wp-content/uploads/2018/04/img_4692-1.jpg
ORGANIZER;CN="St. Luke's Episcopal Church":MAILTO:info@stlukesrenton.org
END:VEVENT
BEGIN:VEVENT
DTSTART;TZID=America/Los_Angeles:20220306T080000
DTEND;TZID=America/Los_Angeles:20220306T090000
DTSTAMP:20260424T193032
CREATED:20180423T152208Z
LAST-MODIFIED:20180423T152208Z
UID:11946-1646553600-1646557200@stlukesrenton.org
SUMMARY:Holy Eucharist
DESCRIPTION:We celebrate our lives in Christ\, proclaiming an authentic faith for real people. We proclaim God’s love for all through ritual\, song\, prayer\, scripture\, silence\, beauty\, and communion.
URL:https://stlukesrenton.org/event/holy-eucharist-2022-03-06/
LOCATION:St. Luke’s\, 99 Wells Ave S\, Renton\, 98057\, United States
CATEGORIES:Liturgy
ATTACH;FMTTYPE=image/jpeg:https://stlukesrenton.org/wp-content/uploads/2018/04/img_4700.jpg
ORGANIZER;CN="St. Luke's Episcopal Church":MAILTO:info@stlukesrenton.org
END:VEVENT
BEGIN:VEVENT
DTSTART;TZID=America/Los_Angeles:20220302T180000
DTEND;TZID=America/Los_Angeles:20220302T183000
DTSTAMP:20260424T193032
CREATED:20180423T151758Z
LAST-MODIFIED:20180423T151758Z
UID:11934-1646244000-1646245800@stlukesrenton.org
SUMMARY:Vesper Mass
DESCRIPTION:This intimate\, meditative liturgy begins with the Episcopal evening office (Evening Prayer) and continues with communion. We gather in the sanctuary (altar area) of the church for this half-hour liturgy. \nA half-hour of silent meditation begins before vesper mass at 5:30 pm.
URL:https://stlukesrenton.org/event/vesper-mass-2022-03-02/
LOCATION:St. Luke’s\, Main Church\, 99 Wells Ave S\, Renton\, WA\, 98057\, United States
CATEGORIES:Liturgy
ATTACH;FMTTYPE=image/jpeg:https://stlukesrenton.org/wp-content/uploads/2018/04/img_4692.jpg
ORGANIZER;CN="St. Luke's Episcopal Church":MAILTO:info@stlukesrenton.org
END:VEVENT
BEGIN:VEVENT
DTSTART;TZID=America/Los_Angeles:20220302T173000
DTEND;TZID=America/Los_Angeles:20220302T180000
DTSTAMP:20260424T193032
CREATED:20180423T151536Z
LAST-MODIFIED:20210311T143418Z
UID:11933-1646242200-1646244000@stlukesrenton.org
SUMMARY:Silent Meditation
DESCRIPTION:A half-hour of silent meditation begins at 5:30 pm. We gather in the sanctuary (altar area) of the church. \nTo best protect our community from the spread of COVID-19\, all church events have moved online. Please visit our online church hub at stlukesrenton.org/livestream for livestream liturgies\, Zoom classes\, prayer requests\, bulletins\, and other news.
URL:https://stlukesrenton.org/event/silent-meditation-2022-03-02/
LOCATION:St. Luke’s\, 99 Wells Ave S\, Renton\, 98057\, United States
CATEGORIES:Liturgy
ATTACH;FMTTYPE=image/jpeg:https://stlukesrenton.org/wp-content/uploads/2018/04/img_4697.jpg
ORGANIZER;CN="St. Luke's Episcopal Church":MAILTO:info@stlukesrenton.org
END:VEVENT
BEGIN:VEVENT
DTSTART;TZID=America/Los_Angeles:20220227T103000
DTEND;TZID=America/Los_Angeles:20220227T120000
DTSTAMP:20260424T193032
CREATED:20180423T152435Z
LAST-MODIFIED:20180423T152435Z
UID:11919-1645957800-1645963200@stlukesrenton.org
SUMMARY:Holy Eucharist
DESCRIPTION:We celebrate our lives in Christ\, proclaiming an authentic faith for real people. We proclaim God’s love for all through ritual\, song\, prayer\, scripture\, silence\, beauty\, and communion. \nTo best protect our community from the spread of COVID-19\, all church events have moved online. Please visit our online church hub at stlukesrenton.org/livestream for livestream liturgies\, Zoom classes\, prayer requests\, bulletins\, and other news.
URL:https://stlukesrenton.org/event/holy-eucharist-2-2020-04-12-2022-02-27/
LOCATION:St. Luke’s\, Main Church\, 99 Wells Ave S\, Renton\, WA\, 98057\, United States
CATEGORIES:Liturgy
ATTACH;FMTTYPE=image/jpeg:https://stlukesrenton.org/wp-content/uploads/2018/04/img_4692-1.jpg
ORGANIZER;CN="St. Luke's Episcopal Church":MAILTO:info@stlukesrenton.org
END:VEVENT
BEGIN:VEVENT
DTSTART;TZID=America/Los_Angeles:20220227T103000
DTEND;TZID=America/Los_Angeles:20220227T120000
DTSTAMP:20260424T193032
CREATED:20180423T152435Z
LAST-MODIFIED:20180423T152435Z
UID:11921-1645957800-1645963200@stlukesrenton.org
SUMMARY:Holy Eucharist
DESCRIPTION:We celebrate our lives in Christ\, proclaiming an authentic faith for real people. We proclaim God’s love for all through ritual\, song\, prayer\, scripture\, silence\, beauty\, and communion.
URL:https://stlukesrenton.org/event/holy-eucharist-2-2022-02-27/
LOCATION:St. Luke’s\, Main Church\, 99 Wells Ave S\, Renton\, WA\, 98057\, United States
CATEGORIES:Liturgy
ATTACH;FMTTYPE=image/jpeg:https://stlukesrenton.org/wp-content/uploads/2018/04/img_4692-1.jpg
ORGANIZER;CN="St. Luke's Episcopal Church":MAILTO:info@stlukesrenton.org
END:VEVENT
BEGIN:VEVENT
DTSTART;TZID=America/Los_Angeles:20220227T080000
DTEND;TZID=America/Los_Angeles:20220227T090000
DTSTAMP:20260424T193032
CREATED:20180423T152208Z
LAST-MODIFIED:20180423T152208Z
UID:11920-1645948800-1645952400@stlukesrenton.org
SUMMARY:Holy Eucharist
DESCRIPTION:We celebrate our lives in Christ\, proclaiming an authentic faith for real people. We proclaim God’s love for all through ritual\, song\, prayer\, scripture\, silence\, beauty\, and communion.
URL:https://stlukesrenton.org/event/holy-eucharist-2022-02-27/
LOCATION:St. Luke’s\, 99 Wells Ave S\, Renton\, 98057\, United States
CATEGORIES:Liturgy
ATTACH;FMTTYPE=image/jpeg:https://stlukesrenton.org/wp-content/uploads/2018/04/img_4700.jpg
ORGANIZER;CN="St. Luke's Episcopal Church":MAILTO:info@stlukesrenton.org
END:VEVENT
BEGIN:VEVENT
DTSTART;TZID=America/Los_Angeles:20220223T180000
DTEND;TZID=America/Los_Angeles:20220223T183000
DTSTAMP:20260424T193032
CREATED:20180423T151758Z
LAST-MODIFIED:20180423T151758Z
UID:11730-1645639200-1645641000@stlukesrenton.org
SUMMARY:Vesper Mass
DESCRIPTION:This intimate\, meditative liturgy begins with the Episcopal evening office (Evening Prayer) and continues with communion. We gather in the sanctuary (altar area) of the church for this half-hour liturgy. \nA half-hour of silent meditation begins before vesper mass at 5:30 pm.
URL:https://stlukesrenton.org/event/vesper-mass-2022-02-23/
LOCATION:St. Luke’s\, Main Church\, 99 Wells Ave S\, Renton\, WA\, 98057\, United States
CATEGORIES:Liturgy
ATTACH;FMTTYPE=image/jpeg:https://stlukesrenton.org/wp-content/uploads/2018/04/img_4692.jpg
ORGANIZER;CN="St. Luke's Episcopal Church":MAILTO:info@stlukesrenton.org
END:VEVENT
BEGIN:VEVENT
DTSTART;TZID=America/Los_Angeles:20220223T173000
DTEND;TZID=America/Los_Angeles:20220223T180000
DTSTAMP:20260424T193032
CREATED:20180423T151536Z
LAST-MODIFIED:20210311T143418Z
UID:11729-1645637400-1645639200@stlukesrenton.org
SUMMARY:Silent Meditation
DESCRIPTION:A half-hour of silent meditation begins at 5:30 pm. We gather in the sanctuary (altar area) of the church. \nTo best protect our community from the spread of COVID-19\, all church events have moved online. Please visit our online church hub at stlukesrenton.org/livestream for livestream liturgies\, Zoom classes\, prayer requests\, bulletins\, and other news.
URL:https://stlukesrenton.org/event/silent-meditation-2022-02-23/
LOCATION:St. Luke’s\, 99 Wells Ave S\, Renton\, 98057\, United States
CATEGORIES:Liturgy
ATTACH;FMTTYPE=image/jpeg:https://stlukesrenton.org/wp-content/uploads/2018/04/img_4697.jpg
ORGANIZER;CN="St. Luke's Episcopal Church":MAILTO:info@stlukesrenton.org
END:VEVENT
BEGIN:VEVENT
DTSTART;TZID=America/Los_Angeles:20220220T103000
DTEND;TZID=America/Los_Angeles:20220220T120000
DTSTAMP:20260424T193032
CREATED:20180423T152435Z
LAST-MODIFIED:20180423T152435Z
UID:11715-1645353000-1645358400@stlukesrenton.org
SUMMARY:Holy Eucharist
DESCRIPTION:We celebrate our lives in Christ\, proclaiming an authentic faith for real people. We proclaim God’s love for all through ritual\, song\, prayer\, scripture\, silence\, beauty\, and communion. \nTo best protect our community from the spread of COVID-19\, all church events have moved online. Please visit our online church hub at stlukesrenton.org/livestream for livestream liturgies\, Zoom classes\, prayer requests\, bulletins\, and other news.
URL:https://stlukesrenton.org/event/holy-eucharist-2-2020-04-12-2022-02-20/
LOCATION:St. Luke’s\, Main Church\, 99 Wells Ave S\, Renton\, WA\, 98057\, United States
CATEGORIES:Liturgy
ATTACH;FMTTYPE=image/jpeg:https://stlukesrenton.org/wp-content/uploads/2018/04/img_4692-1.jpg
ORGANIZER;CN="St. Luke's Episcopal Church":MAILTO:info@stlukesrenton.org
END:VEVENT
BEGIN:VEVENT
DTSTART;TZID=America/Los_Angeles:20220220T103000
DTEND;TZID=America/Los_Angeles:20220220T120000
DTSTAMP:20260424T193032
CREATED:20180423T152435Z
LAST-MODIFIED:20180423T152435Z
UID:11717-1645353000-1645358400@stlukesrenton.org
SUMMARY:Holy Eucharist
DESCRIPTION:We celebrate our lives in Christ\, proclaiming an authentic faith for real people. We proclaim God’s love for all through ritual\, song\, prayer\, scripture\, silence\, beauty\, and communion.
URL:https://stlukesrenton.org/event/holy-eucharist-2-2022-02-20/
LOCATION:St. Luke’s\, Main Church\, 99 Wells Ave S\, Renton\, WA\, 98057\, United States
CATEGORIES:Liturgy
ATTACH;FMTTYPE=image/jpeg:https://stlukesrenton.org/wp-content/uploads/2018/04/img_4692-1.jpg
ORGANIZER;CN="St. Luke's Episcopal Church":MAILTO:info@stlukesrenton.org
END:VEVENT
BEGIN:VEVENT
DTSTART;TZID=America/Los_Angeles:20220220T080000
DTEND;TZID=America/Los_Angeles:20220220T090000
DTSTAMP:20260424T193032
CREATED:20180423T152208Z
LAST-MODIFIED:20180423T152208Z
UID:11716-1645344000-1645347600@stlukesrenton.org
SUMMARY:Holy Eucharist
DESCRIPTION:We celebrate our lives in Christ\, proclaiming an authentic faith for real people. We proclaim God’s love for all through ritual\, song\, prayer\, scripture\, silence\, beauty\, and communion.
URL:https://stlukesrenton.org/event/holy-eucharist-2022-02-20/
LOCATION:St. Luke’s\, 99 Wells Ave S\, Renton\, 98057\, United States
CATEGORIES:Liturgy
ATTACH;FMTTYPE=image/jpeg:https://stlukesrenton.org/wp-content/uploads/2018/04/img_4700.jpg
ORGANIZER;CN="St. Luke's Episcopal Church":MAILTO:info@stlukesrenton.org
END:VEVENT
BEGIN:VEVENT
DTSTART;TZID=America/Los_Angeles:20220216T180000
DTEND;TZID=America/Los_Angeles:20220216T183000
DTSTAMP:20260424T193032
CREATED:20180423T151758Z
LAST-MODIFIED:20180423T151758Z
UID:11706-1645034400-1645036200@stlukesrenton.org
SUMMARY:Vesper Mass
DESCRIPTION:This intimate\, meditative liturgy begins with the Episcopal evening office (Evening Prayer) and continues with communion. We gather in the sanctuary (altar area) of the church for this half-hour liturgy. \nA half-hour of silent meditation begins before vesper mass at 5:30 pm.
URL:https://stlukesrenton.org/event/vesper-mass-2022-02-16/
LOCATION:St. Luke’s\, Main Church\, 99 Wells Ave S\, Renton\, WA\, 98057\, United States
CATEGORIES:Liturgy
ATTACH;FMTTYPE=image/jpeg:https://stlukesrenton.org/wp-content/uploads/2018/04/img_4692.jpg
ORGANIZER;CN="St. Luke's Episcopal Church":MAILTO:info@stlukesrenton.org
END:VEVENT
BEGIN:VEVENT
DTSTART;TZID=America/Los_Angeles:20220216T173000
DTEND;TZID=America/Los_Angeles:20220216T180000
DTSTAMP:20260424T193032
CREATED:20180423T151536Z
LAST-MODIFIED:20210311T143417Z
UID:11705-1645032600-1645034400@stlukesrenton.org
SUMMARY:Silent Meditation
DESCRIPTION:A half-hour of silent meditation begins at 5:30 pm. We gather in the sanctuary (altar area) of the church. \nTo best protect our community from the spread of COVID-19\, all church events have moved online. Please visit our online church hub at stlukesrenton.org/livestream for livestream liturgies\, Zoom classes\, prayer requests\, bulletins\, and other news.
URL:https://stlukesrenton.org/event/silent-meditation-2022-02-16/
LOCATION:St. Luke’s\, 99 Wells Ave S\, Renton\, 98057\, United States
CATEGORIES:Liturgy
ATTACH;FMTTYPE=image/jpeg:https://stlukesrenton.org/wp-content/uploads/2018/04/img_4697.jpg
ORGANIZER;CN="St. Luke's Episcopal Church":MAILTO:info@stlukesrenton.org
END:VEVENT
BEGIN:VEVENT
DTSTART;TZID=America/Los_Angeles:20220213T103000
DTEND;TZID=America/Los_Angeles:20220213T120000
DTSTAMP:20260424T193032
CREATED:20180423T152435Z
LAST-MODIFIED:20180423T152435Z
UID:11634-1644748200-1644753600@stlukesrenton.org
SUMMARY:Holy Eucharist
DESCRIPTION:We celebrate our lives in Christ\, proclaiming an authentic faith for real people. We proclaim God’s love for all through ritual\, song\, prayer\, scripture\, silence\, beauty\, and communion.
URL:https://stlukesrenton.org/event/holy-eucharist-2-2022-02-13/
LOCATION:St. Luke’s\, Main Church\, 99 Wells Ave S\, Renton\, WA\, 98057\, United States
CATEGORIES:Liturgy
ATTACH;FMTTYPE=image/jpeg:https://stlukesrenton.org/wp-content/uploads/2018/04/img_4692-1.jpg
ORGANIZER;CN="St. Luke's Episcopal Church":MAILTO:info@stlukesrenton.org
END:VEVENT
BEGIN:VEVENT
DTSTART;TZID=America/Los_Angeles:20220213T103000
DTEND;TZID=America/Los_Angeles:20220213T120000
DTSTAMP:20260424T193032
CREATED:20180423T152435Z
LAST-MODIFIED:20180423T152435Z
UID:11632-1644748200-1644753600@stlukesrenton.org
SUMMARY:Holy Eucharist
DESCRIPTION:We celebrate our lives in Christ\, proclaiming an authentic faith for real people. We proclaim God’s love for all through ritual\, song\, prayer\, scripture\, silence\, beauty\, and communion. \nTo best protect our community from the spread of COVID-19\, all church events have moved online. Please visit our online church hub at stlukesrenton.org/livestream for livestream liturgies\, Zoom classes\, prayer requests\, bulletins\, and other news.
URL:https://stlukesrenton.org/event/holy-eucharist-2-2020-04-12-2022-02-13/
LOCATION:St. Luke’s\, Main Church\, 99 Wells Ave S\, Renton\, WA\, 98057\, United States
CATEGORIES:Liturgy
ATTACH;FMTTYPE=image/jpeg:https://stlukesrenton.org/wp-content/uploads/2018/04/img_4692-1.jpg
ORGANIZER;CN="St. Luke's Episcopal Church":MAILTO:info@stlukesrenton.org
END:VEVENT
BEGIN:VEVENT
DTSTART;TZID=America/Los_Angeles:20220213T080000
DTEND;TZID=America/Los_Angeles:20220213T090000
DTSTAMP:20260424T193032
CREATED:20180423T152208Z
LAST-MODIFIED:20180423T152208Z
UID:11633-1644739200-1644742800@stlukesrenton.org
SUMMARY:Holy Eucharist
DESCRIPTION:We celebrate our lives in Christ\, proclaiming an authentic faith for real people. We proclaim God’s love for all through ritual\, song\, prayer\, scripture\, silence\, beauty\, and communion.
URL:https://stlukesrenton.org/event/holy-eucharist-2022-02-13/
LOCATION:St. Luke’s\, 99 Wells Ave S\, Renton\, 98057\, United States
CATEGORIES:Liturgy
ATTACH;FMTTYPE=image/jpeg:https://stlukesrenton.org/wp-content/uploads/2018/04/img_4700.jpg
ORGANIZER;CN="St. Luke's Episcopal Church":MAILTO:info@stlukesrenton.org
END:VEVENT
BEGIN:VEVENT
DTSTART;TZID=America/Los_Angeles:20220209T180000
DTEND;TZID=America/Los_Angeles:20220209T183000
DTSTAMP:20260424T193032
CREATED:20180423T151758Z
LAST-MODIFIED:20180423T151758Z
UID:11564-1644429600-1644431400@stlukesrenton.org
SUMMARY:Vesper Mass
DESCRIPTION:This intimate\, meditative liturgy begins with the Episcopal evening office (Evening Prayer) and continues with communion. We gather in the sanctuary (altar area) of the church for this half-hour liturgy. \nA half-hour of silent meditation begins before vesper mass at 5:30 pm.
URL:https://stlukesrenton.org/event/vesper-mass-2022-02-09/
LOCATION:St. Luke’s\, Main Church\, 99 Wells Ave S\, Renton\, WA\, 98057\, United States
CATEGORIES:Liturgy
ATTACH;FMTTYPE=image/jpeg:https://stlukesrenton.org/wp-content/uploads/2018/04/img_4692.jpg
ORGANIZER;CN="St. Luke's Episcopal Church":MAILTO:info@stlukesrenton.org
END:VEVENT
BEGIN:VEVENT
DTSTART;TZID=America/Los_Angeles:20220209T173000
DTEND;TZID=America/Los_Angeles:20220209T180000
DTSTAMP:20260424T193032
CREATED:20180423T151536Z
LAST-MODIFIED:20210311T143417Z
UID:11563-1644427800-1644429600@stlukesrenton.org
SUMMARY:Silent Meditation
DESCRIPTION:A half-hour of silent meditation begins at 5:30 pm. We gather in the sanctuary (altar area) of the church. \nTo best protect our community from the spread of COVID-19\, all church events have moved online. Please visit our online church hub at stlukesrenton.org/livestream for livestream liturgies\, Zoom classes\, prayer requests\, bulletins\, and other news.
URL:https://stlukesrenton.org/event/silent-meditation-2022-02-09/
LOCATION:St. Luke’s\, 99 Wells Ave S\, Renton\, 98057\, United States
CATEGORIES:Liturgy
ATTACH;FMTTYPE=image/jpeg:https://stlukesrenton.org/wp-content/uploads/2018/04/img_4697.jpg
ORGANIZER;CN="St. Luke's Episcopal Church":MAILTO:info@stlukesrenton.org
END:VEVENT
BEGIN:VEVENT
DTSTART;TZID=America/Los_Angeles:20220206T103000
DTEND;TZID=America/Los_Angeles:20220206T120000
DTSTAMP:20260424T193032
CREATED:20180423T152435Z
LAST-MODIFIED:20180423T152435Z
UID:11551-1644143400-1644148800@stlukesrenton.org
SUMMARY:Holy Eucharist
DESCRIPTION:We celebrate our lives in Christ\, proclaiming an authentic faith for real people. We proclaim God’s love for all through ritual\, song\, prayer\, scripture\, silence\, beauty\, and communion. \nTo best protect our community from the spread of COVID-19\, all church events have moved online. Please visit our online church hub at stlukesrenton.org/livestream for livestream liturgies\, Zoom classes\, prayer requests\, bulletins\, and other news.
URL:https://stlukesrenton.org/event/holy-eucharist-2-2020-04-12-2022-02-06/
LOCATION:St. Luke’s\, Main Church\, 99 Wells Ave S\, Renton\, WA\, 98057\, United States
CATEGORIES:Liturgy
ATTACH;FMTTYPE=image/jpeg:https://stlukesrenton.org/wp-content/uploads/2018/04/img_4692-1.jpg
ORGANIZER;CN="St. Luke's Episcopal Church":MAILTO:info@stlukesrenton.org
END:VEVENT
BEGIN:VEVENT
DTSTART;TZID=America/Los_Angeles:20220206T103000
DTEND;TZID=America/Los_Angeles:20220206T120000
DTSTAMP:20260424T193032
CREATED:20180423T152435Z
LAST-MODIFIED:20180423T152435Z
UID:11553-1644143400-1644148800@stlukesrenton.org
SUMMARY:Holy Eucharist
DESCRIPTION:We celebrate our lives in Christ\, proclaiming an authentic faith for real people. We proclaim God’s love for all through ritual\, song\, prayer\, scripture\, silence\, beauty\, and communion.
URL:https://stlukesrenton.org/event/holy-eucharist-2-2022-02-06/
LOCATION:St. Luke’s\, Main Church\, 99 Wells Ave S\, Renton\, WA\, 98057\, United States
CATEGORIES:Liturgy
ATTACH;FMTTYPE=image/jpeg:https://stlukesrenton.org/wp-content/uploads/2018/04/img_4692-1.jpg
ORGANIZER;CN="St. Luke's Episcopal Church":MAILTO:info@stlukesrenton.org
END:VEVENT
END:VCALENDAR