BEGIN:VCALENDAR
VERSION:2.0
PRODID:-//St. Luke&#039;s Episcopal Church - ECPv6.15.20//NONSGML v1.0//EN
CALSCALE:GREGORIAN
METHOD:PUBLISH
X-WR-CALNAME:St. Luke&#039;s Episcopal Church
X-ORIGINAL-URL:https://stlukesrenton.org
X-WR-CALDESC:Events for St. Luke&#039;s Episcopal Church
REFRESH-INTERVAL;VALUE=DURATION:PT1H
X-Robots-Tag:noindex
X-PUBLISHED-TTL:PT1H
BEGIN:VTIMEZONE
TZID:America/Los_Angeles
BEGIN:DAYLIGHT
TZOFFSETFROM:-0800
TZOFFSETTO:-0700
TZNAME:PDT
DTSTART:20170312T100000
END:DAYLIGHT
BEGIN:STANDARD
TZOFFSETFROM:-0700
TZOFFSETTO:-0800
TZNAME:PST
DTSTART:20171105T090000
END:STANDARD
BEGIN:DAYLIGHT
TZOFFSETFROM:-0800
TZOFFSETTO:-0700
TZNAME:PDT
DTSTART:20180311T100000
END:DAYLIGHT
BEGIN:STANDARD
TZOFFSETFROM:-0700
TZOFFSETTO:-0800
TZNAME:PST
DTSTART:20181104T090000
END:STANDARD
BEGIN:DAYLIGHT
TZOFFSETFROM:-0800
TZOFFSETTO:-0700
TZNAME:PDT
DTSTART:20190310T100000
END:DAYLIGHT
BEGIN:STANDARD
TZOFFSETFROM:-0700
TZOFFSETTO:-0800
TZNAME:PST
DTSTART:20191103T090000
END:STANDARD
BEGIN:DAYLIGHT
TZOFFSETFROM:-0800
TZOFFSETTO:-0700
TZNAME:PDT
DTSTART:20200308T100000
END:DAYLIGHT
BEGIN:STANDARD
TZOFFSETFROM:-0700
TZOFFSETTO:-0800
TZNAME:PST
DTSTART:20201101T090000
END:STANDARD
END:VTIMEZONE
BEGIN:VEVENT
DTSTART;TZID=America/Los_Angeles:20190621T190000
DTEND;TZID=America/Los_Angeles:20190621T210000
DTSTAMP:20260424T085550
CREATED:20190507T234437Z
LAST-MODIFIED:20190507T234437Z
UID:5251-1561143600-1561150800@stlukesrenton.org
SUMMARY:Rise Up
DESCRIPTION:Celebrate the Summer Solstice. Through music and poetry\, ritual and movement\, we acknowledge the beauty of the natural world and the interweave of the seasons with our own spiritual lives. \nAll are welcome. \nRead more about St. Luke’s seasonal liturgies.
URL:https://stlukesrenton.org/event/rise-up-2019/
LOCATION:St. Luke’s\, Main Church\, 99 Wells Ave S\, Renton\, WA\, 98057\, United States
CATEGORIES:Liturgy,Seasonal Liturgy
ATTACH;FMTTYPE=image/jpeg:https://stlukesrenton.org/wp-content/uploads/2019/05/web-1.0.jpg
ORGANIZER;CN="St. Luke's Episcopal Church":MAILTO:info@stlukesrenton.org
END:VEVENT
BEGIN:VEVENT
DTSTART;TZID=America/Los_Angeles:20180621T190000
DTEND;TZID=America/Los_Angeles:20180621T210000
DTSTAMP:20260424T085550
CREATED:20180421T180520Z
LAST-MODIFIED:20180620T024118Z
UID:145-1529607600-1529614800@stlukesrenton.org
SUMMARY:Rise Up!
DESCRIPTION:A liturgy for the summer solstice with sunshine\, music\, poetry\, and movement. Beverages (non-alcoholic\, beer\, and wine) will be available. All are welcome.  \nMore information about St. Luke’s seasonal liturgies is available at The Episcopal Cafe\, The Diocese of Olympia\, and our website.
URL:https://stlukesrenton.org/event/rise-up/
LOCATION:St. Luke’s\, Main Church\, 99 Wells Ave S\, Renton\, WA\, 98057\, United States
CATEGORIES:Liturgy,Seasonal Liturgy
ATTACH;FMTTYPE=image/jpeg:https://stlukesrenton.org/wp-content/uploads/2018/04/Rise-Up-1.1-1.jpg
ORGANIZER;CN="St. Luke's Episcopal Church":MAILTO:info@stlukesrenton.org
END:VEVENT
END:VCALENDAR